BEGIN:VCALENDAR
VERSION:2.0
PRODID:-//ChamberMaster//Event Calendar 2.0//EN
METHOD:PUBLISH
X-PUBLISHED-TTL:P3D
REFRESH-INTERVAL:P3D
CALSCALE:GREGORIAN
BEGIN:VEVENT
DTSTART:20200223T180000Z
DTEND:20200223T220000Z
X-MICROSOFT-CDO-ALLDAYEVENT:FALSE
SUMMARY:Wedding Open House
DESCRIPTION:We invite you to meet our wedding coordinator and select vendors with canapes and bubbly on arrival!
X-ALT-DESC;FMTTYPE=text/html:<p><span style="font-size:14px"><span style="font-family:verdana"><big><strong>We invite you to meet our wedding coordinator and</strong><strong>&nbsp\;select vendors with canapes and bubbly on arrival!</strong></big></span></span></p>\n
LOCATION:DoubleTree by Hilton Lawrence 200 McDonald Drive Lawrence\, Kansas 66044
UID:e.2064.5858
SEQUENCE:3
DTSTAMP:20260422T014724Z
URL:https://members.lawrencechamber.com/events/details/wedding-open-house-5858
END:VEVENT

END:VCALENDAR
