BEGIN:VCALENDAR
VERSION:2.0
PRODID:-//ChamberMaster//Event Calendar 2.0//EN
METHOD:PUBLISH
X-PUBLISHED-TTL:P3D
REFRESH-INTERVAL:P3D
CALSCALE:GREGORIAN
BEGIN:VEVENT
DTSTART:20251206T150000Z
DTEND:20251206T170000Z
X-MICROSOFT-CDO-ALLDAYEVENT:FALSE
SUMMARY:Parade Breakfast with Santa at Festival of Trees Presented by Kessler Contractors
DESCRIPTION:Grab a prime parking spot for the Christmas Parade and then enjoy a delicious pancake breakfast\, visit with Santa\, and see all the trees\, wreaths\, and festive displays at the Festival of Trees.\n\n \n\nTickets for Breakfast with Santa are available through the Maceli's website.\n\n \n\nSpecial Thanks to our presenting sponsor Kessler Contractors.\n\n \n\nProceeds benefit O'Connell Children's Shelter\, which has provided support to youth and families in Lawrence and surrounding communities since 1976.
X-ALT-DESC;FMTTYPE=text/html:<div><br />\nGrab a prime parking spot for the Christmas Parade and then enjoy a delicious pancake breakfast\, visit with Santa\, and see all the trees\, wreaths\, and festive displays at the Festival of Trees.<br />\n&nbsp\;</div>\n\n<div>Tickets for Breakfast with Santa are available through the Maceli&#39\;s website.<br />\n&nbsp\;</div>\n\n<div>Special Thanks to our presenting sponsor Kessler Contractors.</div>\n\n<div>&nbsp\;</div>\n\n<div>Proceeds benefit O&#39\;Connell Children&#39\;s Shelter\, which has provided support to youth and families in Lawrence and surrounding communities since 1976.&nbsp\;</div>\n
LOCATION:Maceli's\, 1031 New Hampshire Street\, Lawrence\, KS 66044
UID:e.2064.17032
SEQUENCE:3
DTSTAMP:20260420T082709Z
URL:https://members.lawrencechamber.com/events/details/viewing-hours-at-festival-of-trees-12-06-2025-17032
END:VEVENT

END:VCALENDAR
