BEGIN:VCALENDAR
VERSION:2.0
PRODID:-//ChamberMaster//Event Calendar 2.0//EN
METHOD:PUBLISH
X-PUBLISHED-TTL:P3D
REFRESH-INTERVAL:P3D
CALSCALE:GREGORIAN
BEGIN:VEVENT
DTSTART:20170923T140000Z
DTEND:20170923T170000Z
X-MICROSOFT-CDO-ALLDAYEVENT:FALSE
SUMMARY:USD 497 Community Open House
DESCRIPTION:Lawrence Public Schools invite the public to tour recently completed school construction projects at Pinckney and Sunflower Elementary Schools\, as a result of the community's generous support of the April 2013 school bond election.
X-ALT-DESC;FMTTYPE=text/html:Lawrence Public Schools invite the public to tour recently completed school construction projects at Pinckney and Sunflower Elementary Schools\, as a result of the community&#39\;s generous support of the April 2013 school bond election.
LOCATION:Pinckney (810 W. 6th Street) and Sunflower (2521 Inverness Drive) Elementary Schools
UID:e.2064.2470
SEQUENCE:3
DTSTAMP:20260421T085820Z
URL:https://members.lawrencechamber.com/events/details/usd-497-community-open-house-2470
END:VEVENT

END:VCALENDAR
