BEGIN:VCALENDAR
VERSION:2.0
PRODID:-//ChamberMaster//Event Calendar 2.0//EN
METHOD:PUBLISH
X-PUBLISHED-TTL:P3D
REFRESH-INTERVAL:P3D
CALSCALE:GREGORIAN
BEGIN:VEVENT
DTSTART:20260430T160000Z
DTEND:20260430T180000Z
X-MICROSOFT-CDO-ALLDAYEVENT:FALSE
SUMMARY:Union 100th Birthday Party
DESCRIPTION:On the same date that the cornerstone was laid 100 years ago\, the Kansas Union is celebrating a century of history. Since its opening\, the Union has been the heart of campus life\, welcoming generations of students\, faculty\, and visitors to study\, gather\, and connect.\n\n\n\nIn honor of this milestone\, the celebration includes festive party favors\, and a special birthday treat to mark 100 years of memories.\n\n\n\nLearn more about the events on our website\, https://union.ku.edu/Union100 and follow us on Instagram\, @kuunions for updates!
X-ALT-DESC;FMTTYPE=text/html:<span style="font-family:times new roman\,serif">On the same date that the cornerstone was laid 100 years ago\, the Kansas Union is celebrating a century of history. Since its opening\, the Union has been the heart of campus life\, welcoming generations of students\, faculty\, and visitors to study\, gather\, and connect.</span><br />\n<br />\n<span style="font-family:times new roman\,serif">In honor of this milestone\, the celebration includes festive party favors\, and a special birthday treat to mark 100 years of memories.<br />\n<br />\nLearn more about the events on our website\, </span><a href="https://union.ku.edu/Union100" style="color:rgb(70\, 120\, 134)\;"><span style="font-family:times new roman\,serif">https://union.ku.edu/Union100</span></a><span style="font-family:times new roman\,serif"> and follow us on Instagram\, @kuunions for updates!</span><br />\n<br />\n&nbsp\;
LOCATION:Kansas Union
UID:e.2064.17234
SEQUENCE:3
DTSTAMP:20260421T090656Z
URL:https://members.lawrencechamber.com/events/details/union-100th-birthday-party-17234
END:VEVENT

END:VCALENDAR
