BEGIN:VCALENDAR
VERSION:2.0
PRODID:-//ChamberMaster//Event Calendar 2.0//EN
METHOD:PUBLISH
X-PUBLISHED-TTL:P3D
REFRESH-INTERVAL:P3D
CALSCALE:GREGORIAN
BEGIN:VEVENT
DTSTART:20160927T213000Z
DTEND:20160927T230000Z
X-MICROSOFT-CDO-ALLDAYEVENT:FALSE
SUMMARY:Technology Tuesday with KUIC
DESCRIPTION:Join KUIC for a networking event for researchers\, investors\, entrepreneurs\, companies\, and economic development professionals. KU inventors will pitch partnering opportunities on four different technologies. Presentations are five minutes each\, followed by Q&A. \n\n\n\nVisit http://kuic.ku.edu/upcoming-events/technology-tuesday-september-27 to learn more and register.
X-ALT-DESC;FMTTYPE=text/html:<div style="color: gray\;"><span style="color:#000000\;">Join KUIC for a networking event for researchers\, investors\, entrepreneurs\, companies\, and economic development professionals. KU inventors will pitch partnering opportunities on four different technologies. Presentations are five minutes each\, followed by Q&amp\;A.&nbsp\;<br />\n<br />\nVisit&nbsp\;<a href="http://kuic.ku.edu/upcoming-events/technology-tuesday-september-27">http://kuic.ku.edu/upcoming-events/technology-tuesday-september-27</a> to learn more and register.</span></div>\n
LOCATION:Bioscience and Technology Business Center 2029 Becker Dr.\, Lawrence KS
UID:e.2064.2263
SEQUENCE:3
DTSTAMP:20260421T065514Z
URL:https://members.lawrencechamber.com/events/details/technology-tuesday-with-kuic-2263
END:VEVENT

END:VCALENDAR
