BEGIN:VCALENDAR
VERSION:2.0
PRODID:-//ChamberMaster//Event Calendar 2.0//EN
METHOD:PUBLISH
X-PUBLISHED-TTL:P3D
REFRESH-INTERVAL:P3D
CALSCALE:GREGORIAN
BEGIN:VEVENT
DTSTART;VALUE=DATE:20160526
DTEND;VALUE=DATE:20160527
TRANSP:TRANSPARENT
X-MICROSOFT-CDO-ALLDAYEVENT:TRUE
SUMMARY:Sunlite Science & Technology\, Inc. LED Lighting Open House
DESCRIPTION:Please join us for our open house to showcase our recently remodeled corporate headquarters and manufacturing facility.\n\n\n\nSunlite Science and Technology\, Inc has been in Lawrence for 19 years manufacturing LED lighting products. From Truck mounted lights\, UV LED Curing units to residential and commercial lighting.\n\n\n\nSunlite has been on the forefront of LED light manufacturing for almost two decades.\n\n\n\nCome celebrate with us!\n\n\n\nBeer\, wine\, and snacks will be provided.
X-ALT-DESC;FMTTYPE=text/html:Please join us for our open house to showcase our recently remodeled corporate headquarters and manufacturing facility.<br />\n<br />\nSunlite Science and Technology\, Inc has been in Lawrence for 19 years manufacturing LED lighting products. From Truck mounted lights\, UV LED Curing units to residential and commercial lighting.<br />\n<br />\nSunlite has been on the forefront of LED light manufacturing for almost two decades.<br />\n<br />\nCome celebrate with us!<br />\n<br />\nBeer\, wine\, and snacks will be provided.<br />\n<br />\n&nbsp\;
LOCATION:4811 Quail Crest Place\, Lawrence Kansas 66049
UID:e.2064.2225
SEQUENCE:3
DTSTAMP:20260422T000359Z
URL:https://members.lawrencechamber.com/events/details/sunlite-science-technology-inc-led-lighting-open-house-2225
END:VEVENT

END:VCALENDAR
