BEGIN:VCALENDAR
VERSION:2.0
PRODID:-//ChamberMaster//Event Calendar 2.0//EN
METHOD:PUBLISH
X-PUBLISHED-TTL:P3D
REFRESH-INTERVAL:P3D
CALSCALE:GREGORIAN
BEGIN:VEVENT
DTSTART:20230731T140000Z
DTEND:20230804T190000Z
X-MICROSOFT-CDO-ALLDAYEVENT:FALSE
SUMMARY:Summer Baseball/Softball Camp
DESCRIPTION:Join us at D-BAT Lawrence as many days as you want for baseball/softball camp! Camp days will focus on developing all skills for both baseball and softball.  Skills will include fielding\, hitting\, bunting\, throwing and learning the rules and terminology of the game. Most importantly we will have fun!
X-ALT-DESC;FMTTYPE=text/html:Join us at D-BAT Lawrence as many days as you want for baseball/softball camp! Camp days will focus on developing all skills for both baseball and softball.&nbsp\; Skills will include fielding\, hitting\, bunting\, throwing and learning the rules and terminology of the game. Most importantly we will have fun!
LOCATION:DBAT Lawrence\, 2460 Fairfield St\, Lawrence
UID:e.2064.10267
SEQUENCE:3
DTSTAMP:20260422T032016Z
URL:https://members.lawrencechamber.com/events/details/summer-baseball-softball-camp-10267
END:VEVENT

END:VCALENDAR
