BEGIN:VCALENDAR
VERSION:2.0
PRODID:-//ChamberMaster//Event Calendar 2.0//EN
METHOD:PUBLISH
X-PUBLISHED-TTL:P3D
REFRESH-INTERVAL:P3D
CALSCALE:GREGORIAN
BEGIN:VEVENT
DTSTART:20260502T180000Z
DTEND:20260503T210000Z
X-MICROSOFT-CDO-ALLDAYEVENT:FALSE
SUMMARY:Spring Parade of Homes 2026 (Weekend 2)
DESCRIPTION:The Spring Parade of Homes runs for two weekends\, April 25 & 26 and May 2 & 3\, 1 - 4pm each day.  There are 19 entries featured in this year's parade including both single-family homes\, duplexes\, and buildable lots.  There is no cost to attend. \n\n\n\nFor more information\, go to www.LHBA.net.
X-ALT-DESC;FMTTYPE=text/html:The Spring Parade of Homes runs for two weekends\, April 25 &amp\; 26 and May 2 &amp\; 3\, 1 - 4pm each day.&nbsp\; There are 19 entries featured in this year&#39\;s parade including both single-family homes\, duplexes\, and buildable lots.&nbsp\; There is no cost to attend.&nbsp\;<br />\n<br />\nFor more information\, go to <a href="http://&#8203\;www.LHBA.net">www.LHBA.net</a>.
LOCATION:Various locations throughout Douglas County\, including Lawrence\, Baldwin City and Eudora. See website for specific locations: www.LHBA.net
UID:e.2064.18078
SEQUENCE:3
DTSTAMP:20260422T221931Z
URL:https://members.lawrencechamber.com/events/details/spring-parade-of-homes-2026-weekend-2-18078
END:VEVENT

END:VCALENDAR
