BEGIN:VCALENDAR
VERSION:2.0
PRODID:-//ChamberMaster//Event Calendar 2.0//EN
METHOD:PUBLISH
X-PUBLISHED-TTL:P3D
REFRESH-INTERVAL:P3D
CALSCALE:GREGORIAN
BEGIN:VEVENT
DTSTART:20171109T000000Z
DTEND:20171109T010000Z
X-MICROSOFT-CDO-ALLDAYEVENT:FALSE
SUMMARY:Solar Energy 101
DESCRIPTION:Solar energy is the fastest growing source of renewable energy and with the increasingly efficient technology it will only keep growing. In this class you will get a basic overview of solar energy: what it is\, how it works\, and everything else you want to know about it! Taught by Andy Rondon of Good Energy Solutions.  Andy has a passion for the environment and loves spreading the "good" news about how solar and energy efficiency can save you money.
X-ALT-DESC;FMTTYPE=text/html:<span style="font-family:helvetica-w01-light\,helvetica-w02-light\,sans-serif\; font-size:16px">Solar energy is the fastest growing source of renewable energy and with the increasingly efficient technology&nbsp\;it will only keep growing.&nbsp\;</span><span style="font-size:16px"><span style="font-family:helvetica-w01-light\,helvetica-w02-light\,sans-serif">In this class you will get a basic overview of solar energy: what it is\, how it works\, and everything else you want to know about it!&nbsp\;</span><span style="font-family:helvetica-w01-light\,helvetica-w02-light\,sans-serif">Taught by Andy Rondon of Good Energy Solutions. &nbsp\;Andy has a passion for the environment and loves spreading the &quot\;good&quot\; news about how solar and energy efficiency can save you money.</span></span>
LOCATION:PEOPLES BANK 745 New Hampshire St Enter on 8th Street and head back to the classroom.
UID:e.2064.2741
SEQUENCE:3
DTSTAMP:20260419T205656Z
URL:https://members.lawrencechamber.com/events/details/solar-energy-101-2741
END:VEVENT

END:VCALENDAR
