BEGIN:VCALENDAR
VERSION:2.0
PRODID:-//ChamberMaster//Event Calendar 2.0//EN
METHOD:PUBLISH
X-PUBLISHED-TTL:P3D
REFRESH-INTERVAL:P3D
CALSCALE:GREGORIAN
BEGIN:VEVENT
DTSTART:20260612T140000Z
DTEND:20260612T220000Z
X-MICROSOFT-CDO-ALLDAYEVENT:FALSE
SUMMARY:Soccer Capital of America® Pop-Up Shop!
DESCRIPTION:Stop by our West 6th Street branch and join the fun! In partnership with Sporting Kansas City's official Sporting Style store\, we're bringing a pop-up experience to select Central Bank locations\, with more coming soon! Browse official Soccer Capital of America  and tournament merchandise from jerseys and hats to scarves and collectibles and celebrate the city that helped earn KC its title as the Soccer Capital of America .\n\n\n\nSpecial Offer: Central Bank customers with a Soccer Capital of America  debit card\, will get 26% off select items!\n\n\n\nFor a full list of dates\, locations\, and to learn more about future pop-ups\, visit https://www.centralbank.net/soccer-capital-pop-up
X-ALT-DESC;FMTTYPE=text/html:<span style="color:rgb(44\, 62\, 80)\; font-family:noto sans\,sans-serif\; font-size:14px">Stop by our West 6th Street branch and join the fun! In partnership with Sporting Kansas City&rsquo\;s official Sporting Style store\, we&rsquo\;re bringing a pop-up experience to select Central Bank locations\, with more coming soon! Browse official Soccer Capital of America&reg\; and tournament merchandise from jerseys and hats to scarves and collectibles and celebrate the city that helped earn KC its title as the Soccer Capital of America&reg\;.<br />\n<br />\n<strong>Special Offer: </strong>Central Bank customers with a Soccer Capital of America&reg\; debit card\, will get 26% off select items!<br />\n<br />\nFor a full list of dates\, locations\, and to learn more about future pop-ups\, visit https://www.centralbank.net/soccer-capital-pop-up</span>
LOCATION:4340 W 6th St\, Lawrence\, KS 66049
UID:e.2064.18071
SEQUENCE:3
DTSTAMP:20260423T133838Z
URL:https://members.lawrencechamber.com/events/details/soccer-capital-of-america-pop-up-shop-18071
END:VEVENT

END:VCALENDAR
