BEGIN:VCALENDAR
VERSION:2.0
PRODID:-//ChamberMaster//Event Calendar 2.0//EN
METHOD:PUBLISH
X-PUBLISHED-TTL:P3D
REFRESH-INTERVAL:P3D
CALSCALE:GREGORIAN
BEGIN:VEVENT
DTSTART:20170225T140000Z
DTEND:20170225T180000Z
X-MICROSOFT-CDO-ALLDAYEVENT:FALSE
SUMMARY:Runner's Clinic
DESCRIPTION:Have your run (or walking) gait video analyzed by our physical therapy staff for suggestions of better form and injury prevention.  Strengthening and stretching suggestions also available during the review.  Other activities include chair massages\, stretch table\, vendor booths\, and free coffee and refreshments.
X-ALT-DESC;FMTTYPE=text/html:Have your run (or walking) gait video analyzed by our physical therapy staff for suggestions of better form and injury prevention. &nbsp\;Strengthening and stretching suggestions also available during the review. &nbsp\;Other activities include chair massages\, stretch table\, vendor booths\, and free coffee and refreshments.
LOCATION:1311 Wakarusa Drive #1000 Lawrence\, KS 66049
UID:e.2064.2333
SEQUENCE:3
DTSTAMP:20260420T110326Z
URL:https://members.lawrencechamber.com/events/details/runner-s-clinic-02-25-2017-2333
END:VEVENT

END:VCALENDAR
