BEGIN:VCALENDAR
VERSION:2.0
PRODID:-//ChamberMaster//Event Calendar 2.0//EN
METHOD:PUBLISH
X-PUBLISHED-TTL:P3D
REFRESH-INTERVAL:P3D
CALSCALE:GREGORIAN
BEGIN:VEVENT
DTSTART:20160401T163000Z
DTEND:20160401T173000Z
X-MICROSOFT-CDO-ALLDAYEVENT:FALSE
SUMMARY:Ribbon Cutting: Wingstop
DESCRIPTION:Please join us for a ribbon cutting Friday\, April 1\, at 11:30 a.m. as we welcome Wingstop\, located at 2233 Louisiana Street\, Ste. G\, to the Lawrence community!\n\n\n\nOwned and operated by former KU Men's basketball standout\, Keith Langford\, and wife\, Brittany\, the store is a new concept to Lawrence\, but exists in 39 states and seven countries worldwide. \n\n\n\nHere's an excerpt from a recent press release on the opening...\n\nA new Wingstop has landed in Lawrence. The award-winning wing concept with more than 800 locations across 39 states and 7 countries recently opened at 2233 Louisiana St.\, operated under the ownership of Keith and Brittany Langford.\n\n\n\nThis will be their first Wingstop as well as the first location in Lawrence. Keith Langford has strong ties to Lawrence and the state of Kansas\, having competed on two Final Four basketball teams for the University of Kansas. \n\n \n\n"I am very excited about this new business venture and the fact that we're opening this Wingstop right here in Lawrence\," commented Langford. "I really love this community and am honored that I am able to open the first Wingstop here and serve the community."
X-ALT-DESC;FMTTYPE=text/html:Please join us for a ribbon cutting Friday\, April 1\, at 11:30 a.m. as we welcome <a href="http://order.wingstop.com/menu/wingstop-1036-lawrence-ks-66046">Wingstop</a>\, located at 2233 Louisiana Street\, Ste. G\, to the Lawrence community!<br />\n<br />\nOwned and operated by former KU Men&#39\;s basketball standout\, Keith Langford\, and wife\, Brittany\, the store is a new concept to Lawrence\, but exists in 39 states and seven countries worldwide.&nbsp\;<br />\n<br />\nHere&#39\;s an excerpt from a recent press release on the opening...<br />\n<em><span style="font-size:12px\;">A new <a href="http://order.wingstop.com/menu/wingstop-1036-lawrence-ks-66046">Wingstop</a>&nbsp\;has landed in Lawrence. The award-winning wing concept with more than 800 locations across 39 states and 7 countries recently opened at 2233 Louisiana St.\, operated under the ownership of Keith and Brittany Langford.<br />\n<br />\nThis will be their first Wingstop as well as the first location in Lawrence. Keith Langford has strong ties to Lawrence and the state of Kansas\, having competed on two Final Four basketball teams for the University of Kansas.&nbsp\;<br />\n&nbsp\;<br />\n&ldquo\;I am very excited about this new business venture and the fact that we&rsquo\;re opening this Wingstop right here in Lawrence\,&rdquo\; commented Langford. &ldquo\;I really love this community and am honored that I am able to open the first Wingstop here and serve the community.&rdquo\;</span></em><br />\n<br />\n&nbsp\;\n<p style="position: relative\; box-sizing: inherit\; margin: 0px 0px 1.66667em\; padding: 0px\; border: 0px\; outline: 0px\; font-size: 2.4rem\; vertical-align: baseline\; font-family: Arial\, 'Helvetica Neue'\, Helvetica\, sans-serif\; line-height: 1.4\; color: rgb(102\, 102\, 102)\; background-image: initial\; background-attachment: initial\; background-size: initial\; background-origin: initial\; background-clip: initial\; background-position: 0px 0px\; background-repeat: initial\;">&nbsp\;</p>\n
LOCATION:2233 Louisiana Street\, Ste. G Located on northwest corner of intersection at 23rd & Louisiana See map here
UID:e.2064.2188
SEQUENCE:3
DTSTAMP:20260422T080453Z
URL:https://members.lawrencechamber.com/events/details/ribbon-cutting-wingstop-2188
END:VEVENT

END:VCALENDAR
