BEGIN:VCALENDAR
VERSION:2.0
PRODID:-//ChamberMaster//Event Calendar 2.0//EN
METHOD:PUBLISH
X-PUBLISHED-TTL:P3D
REFRESH-INTERVAL:P3D
CALSCALE:GREGORIAN
BEGIN:VEVENT
DTSTART:20190611T210000Z
DTEND:20190611T220000Z
X-MICROSOFT-CDO-ALLDAYEVENT:FALSE
SUMMARY:Ribbon Cutting: Twisted Fresh
DESCRIPTION:Please join us on Tuesday\, June 11 at 4:00 p.m. to cut a ribbon for Twisted Fresh\, located at 4931 West 6th St.\, Ste. 118A!\n\n\n\nHere's more about Twisted Fresh: \n\nIt's simple: we believe that fast casual food can be fresh\, healthy\, and full of flavor. Each day\, we serve up made from scratch gourmet tacos\, wraps\, salads\, burgers and sandwiches that are good for you and easy on your wallet. We only use premium ingredients\, prepared to order\, just for you.
X-ALT-DESC;FMTTYPE=text/html:Please join us on Tuesday\, June 11 at 4:00 p.m. to cut a ribbon for Twisted Fresh\, located at 4931 West 6th St.\, Ste. 118A!<br />\n<br />\nHere&#39\;s more about Twisted Fresh:&nbsp\;<br />\n<em>It&#39\;s simple: we believe that fast casual food can be fresh\, healthy\, and full of flavor. Each day\, we serve up made from scratch gourmet tacos\, wraps\, salads\, burgers and sandwiches that are good for you and easy on your wallet. We only use premium ingredients\, prepared to order\, just for you.&nbsp\;</em>
LOCATION:4931 West 6th St.\, Ste. 118A Lawrence\, KS
UID:e.2064.4016
SEQUENCE:3
DTSTAMP:20260423T103930Z
URL:https://members.lawrencechamber.com/events/details/ribbon-cutting-twisted-fresh-4016
END:VEVENT

END:VCALENDAR
