BEGIN:VCALENDAR
VERSION:2.0
PRODID:-//ChamberMaster//Event Calendar 2.0//EN
METHOD:PUBLISH
X-PUBLISHED-TTL:P3D
REFRESH-INTERVAL:P3D
CALSCALE:GREGORIAN
BEGIN:VEVENT
DTSTART:20161114T173000Z
DTEND:20161114T183000Z
X-MICROSOFT-CDO-ALLDAYEVENT:FALSE
SUMMARY:Ribbon Cutting: Spin! Pizza
DESCRIPTION:Please join us Monday\, November 14\, at 11:30am\, for a ribbon cutting to celebrate the grand opening of Lawrence's newest pizza concept\, Spin! Pizza\, located at 525 Wakarusa\, Ste. A. \n\n\n\nGuests are invited to remain following the ceremony for complimentary pizza samples. \n\n\n\nAbout Spin! Pizza: \n\n"It doesn't take long to notice why SPIN! is so special. We've built each SPIN! to be your go-to neighborhood place for eating\, drinking and hanging. Whether you're dropping by for a quick lunch or pushing tables together for a dinner hangout with your crew\, this is your SPIN!. Your server will bring your beverages right over\, and your food won't be far behind. It's pretty quick to the table here at SPIN!\, but the time and care we take creating each ingredient\, crafting each crust\, and baking YOUR pizza reflects our pride in our food and gratitude for your company. And the desire to make you and your friends and family really\, really happy. So\, come on over\, make yourself at home and bite into a hand-spun\, made-with-love\, perfectly topped pizza that honest-to-goodness speaks to your soul."
X-ALT-DESC;FMTTYPE=text/html:Please join us Monday\, November 14\, at 11:30am\, for a ribbon cutting to celebrate the grand opening of Lawrence&#39\;s newest pizza concept\, <a href="http://www.spinpizza.com/">Spin! Pizza</a>\, located at 525 Wakarusa\, Ste. A.&nbsp\;<br />\n<br />\nGuests are invited to remain following the ceremony for complimentary pizza samples.&nbsp\;<br />\n<br />\nAbout Spin! Pizza:&nbsp\;<br />\n<span style="color:#808080\;"><em>&quot\;It doesn&rsquo\;t take long to notice why SPIN! is so special. We&rsquo\;ve built each SPIN! to be your go-to neighborhood place for eating\, drinking and hanging. Whether you&rsquo\;re dropping by for a quick lunch or pushing tables together for a dinner hangout with your crew\, this is your SPIN!. Your server will bring your beverages right over\, and your food won&rsquo\;t be far behind. It&rsquo\;s pretty quick to the table here at SPIN!\, but the time and care we take creating each ingredient\, crafting each crust\, and baking YOUR pizza reflects our pride in our food and gratitude for your company. And the desire to make you and your friends and family really\, really happy. So\, come on over\, make yourself at home and bite into a hand-spun\, made-with-love\, perfectly topped pizza that honest-to-goodness speaks to your soul.&quot\;</em></span>&nbsp\;<br />\n&nbsp\;
LOCATION:525 Wakarusa\, Ste. A Lawrence\, KS 66049
UID:e.2064.2306
SEQUENCE:3
DTSTAMP:20260424T104841Z
URL:https://members.lawrencechamber.com/events/details/ribbon-cutting-spin-pizza-2306
END:VEVENT

END:VCALENDAR
