BEGIN:VCALENDAR
VERSION:2.0
PRODID:-//ChamberMaster//Event Calendar 2.0//EN
METHOD:PUBLISH
X-PUBLISHED-TTL:P3D
REFRESH-INTERVAL:P3D
CALSCALE:GREGORIAN
BEGIN:VEVENT
DTSTART:20160519T213000Z
DTEND:20160519T223000Z
X-MICROSOFT-CDO-ALLDAYEVENT:FALSE
SUMMARY:Ribbon Cutting: Select One Security
DESCRIPTION:Please join us for a ribbon cutting and open house to celebrate the three year anniversary of Select One Security\, located at 331 Maple Street\, in North Lawrence. \n\n\n\nSelect One will host an open house from 4 - 6 p.m. with an official ribbon cutting to take place at 4:30 p.m. Following the ceremony\, guests are invited to remain for the celebration with refreshments and fun and the opportunity to win a free alarm system! \n\n\n\nAbout Select One Security (SOS): \n\nSelect One Security and Communications is headquartered in Lawrence\, Kansas providing security\, fire and "smart home" automation in Lawrence\, Topeka\, Manhattan and the surrounding Kansas City areas.\n\nOur professionals at SOS have worked with homes and businesses to provide them with custom designed:\n\n  Intrusion systems\n\n  Fire systems\n\n  "Smart Home" Automation and Energy Management Systems\n\n  Camera Systems\n\n  Access Control Systems\n\n  Remote Video Systems\n\n  Video Monitoring and Verification\n\n  Local Home Alarm and Business monitoring services\n\n  Home and Business Audio systems\n\n  Central Vac\n\nSOS has the reputation of offering customized protection with the highest level of quality and personal attention to our clients. Each system is designed with the client's needs and concerns\, which enhances reliability and safety.\n\n- See more at: https://www.selectonesecurity.com/#sthash.nGYIoDJ4.dpuf
X-ALT-DESC;FMTTYPE=text/html:Please join us for a ribbon cutting and open house to celebrate the three year anniversary of <a href="http://www.selectonesecurity.com/">Select One Security</a>\, located at 331 Maple Street\, in North Lawrence.&nbsp\;<br />\n<br />\nSelect One will host an open house from 4 - 6 p.m. with an official ribbon cutting to take place at 4:30 p.m. Following the ceremony\, guests are invited to remain for the celebration with refreshments and fun and the opportunity to win a free alarm system!&nbsp\;<br />\n<br />\n<strong>About Select One Security (SOS):</strong>&nbsp\;<br />\n<em><span style="font-size:12px\;">Select One Security and Communications is headquartered in Lawrence\, Kansas providing security\, fire and &ldquo\;smart home&rdquo\; automation in Lawrence\, Topeka\, Manhattan and the surrounding Kansas City areas.<br />\nOur professionals at SOS have worked with homes and businesses to provide them with custom designed:<br />\n&bull\; Intrusion systems<br />\n&bull\; Fire systems<br />\n&bull\; &ldquo\;Smart Home&rdquo\; Automation and Energy Management Systems<br />\n&bull\; Camera Systems<br />\n&bull\; Access Control Systems<br />\n&bull\; Remote Video Systems<br />\n&bull\; Video Monitoring and Verification<br />\n&bull\; Local Home Alarm and Business monitoring services<br />\n&bull\; Home and Business Audio systems<br />\n&bull\; Central Vac<br />\nSOS has the reputation of offering customized protection with the highest level of quality and personal attention to our clients. Each system is designed with the client&rsquo\;s needs and concerns\, which enhances reliability and safety.<br />\n<span style="background-image:initial\;background-attachment:initial\;background-size:initial\;background-origin:initial\;background-clip:initial\;background-position:initial\;background-repeat:initial\;">- See more at: https://www.selectonesecurity.com/#sthash.nGYIoDJ4.dpuf</span></span></em><br />\n&nbsp\;
LOCATION:331 Maple Street (North Lawrence)
UID:e.2064.2224
SEQUENCE:3
DTSTAMP:20260425T180321Z
URL:https://members.lawrencechamber.com/events/details/ribbon-cutting-select-one-security-2224
END:VEVENT

END:VCALENDAR
