BEGIN:VCALENDAR
VERSION:2.0
PRODID:-//ChamberMaster//Event Calendar 2.0//EN
METHOD:PUBLISH
X-PUBLISHED-TTL:P3D
REFRESH-INTERVAL:P3D
CALSCALE:GREGORIAN
BEGIN:VEVENT
DTSTART:20190912T163000Z
DTEND:20190912T173000Z
X-MICROSOFT-CDO-ALLDAYEVENT:FALSE
SUMMARY:Ribbon Cutting: McCarthy Nissan & McCarthy Subaru of Lawrence
DESCRIPTION:Join us to cut a ribbon for McCarthy Nissan & Subaru of Lawrence on Thursday\, September 12 at 11:30 a.m. The ribbon cutting will be hosted at the Nissan location\, 2101 W. 29th Terrace.\n\n\n\nMore about McCarthy Auto Group:\n\n\n\nDevoted to customer satisfaction\, McCarthy Auto Group is proud to have an enormous selection of used and certified pre-owned vehicles at each of our dealerships. All of our pre-owned vehicles are inspected\, detailed\, tested\, and repaired before being put up for sale. If you're looking for a budget-friendly vehicle\, or simply need a reliable set of wheels\, visit a McCarthy dealership near you for the most competitively priced used cars in the local market.\n\n\n\nIn addition to our dedication to offering the best new and used cars in MO and KS\, McCarthy Auto Group financing advisors will work with local banks and lenders to on your behalf to secure the lowest-interest car loans possible. Whether you have poor credit or no credit history at all\, McCarthy is who you want in your corner. We never throw in the towel\, because we believe everyone deserves a quality car\, no matter their past financial issues.
X-ALT-DESC;FMTTYPE=text/html:<span style="font-family:arial\;"><font color="#212121"><span style="font-size: 13.3333px\;">Join us to cut a ribbon for McCarthy Nissan &amp\; Subaru of Lawrence on Thursday\, September 12 at 11:30 a.m. The ribbon cutting will be hosted at the Nissan location\, 2101 W. 29th Terrace.</span></font></span><br />\n<br />\nMore about McCarthy Auto Group:<br />\n<br />\n<em>Devoted to customer satisfaction\, McCarthy Auto Group is proud to have an enormous selection of used and certified pre-owned vehicles at each of our dealerships. All of our pre-owned vehicles are inspected\, detailed\, tested\, and repaired before being put up for sale. If you&#39\;re looking for a budget-friendly vehicle\, or simply need a reliable set of wheels\, visit a McCarthy dealership near you for the most competitively priced used cars in the local market.<br />\n<br />\nIn addition to our dedication to offering the best new and used cars in MO and KS\, McCarthy Auto Group financing advisors will work with local banks and lenders to on your behalf to secure the lowest-interest car loans possible. Whether you have poor credit or no credit history at all\, McCarthy is who you want in your corner. We never throw in the towel\, because we believe everyone deserves a quality car\, no matter their past financial issues.</em>
LOCATION:2101 W. 29th Terrace Lawrence\, KS
UID:e.2064.4055
SEQUENCE:3
DTSTAMP:20260420T135845Z
URL:https://members.lawrencechamber.com/events/details/ribbon-cutting-mccarthy-nissan-mccarthy-subaru-of-lawrence-4055
END:VEVENT

END:VCALENDAR
