BEGIN:VCALENDAR
VERSION:2.0
PRODID:-//ChamberMaster//Event Calendar 2.0//EN
METHOD:PUBLISH
X-PUBLISHED-TTL:P3D
REFRESH-INTERVAL:P3D
CALSCALE:GREGORIAN
BEGIN:VEVENT
DTSTART:20160324T213000Z
DTEND:20160324T223000Z
X-MICROSOFT-CDO-ALLDAYEVENT:FALSE
SUMMARY:Ribbon Cutting: Manpower
DESCRIPTION:After more than 20 years in downtown Lawrence\, Manpower has moved to a new location on the west side of town\, in the Orchards Corner Shopping Center\, located at 3300 Bob Billings Parkway\, Ste. 4. \n\n\n\nPlease join us Thursday\, March 24\, from 4:30 - 5:30 p.m. as we celebrate the move and the new space with a ribbon cutting. \n\n\n\nComplete details on Manpower and its services can be found on its website\, but for an overview\, please see below from Branch Manager\, Heather Bunker: \n\n \nManpower has been a part of the Lawrence community for over 30 years and serves area businesses in a variety of industries. Our expertise lies in fulfilling our client's needs for industrial workers\, skilled trade laborers\, call center staff\, and office/administrative personnel. Now more than ever\, the ability to tap the power of people with the right skills and experience can make or break a company. \n\nWe started with a single office as a temporary staffing service - perhaps the first business of its kind. Today\, all around the world\, we provide this service and so much more\, including permanent placement\, workforce programs and workforce insight and innovation   all designed to optimize human potential and provide businesses with a key competitive advantage. Manpower has been dedicated to matching companies to top talent for over 65 years. \n\nWe began as an industry pioneer and we remain at the forefront as a recognized thought leader in the changing world of work. With our global presence and local expertise\, and by leveraging the peerless expertise of our parent company\, ManpowerGroup\, we influence how people and companies work now and how they will work in the future.
X-ALT-DESC;FMTTYPE=text/html:After more than 20 years in downtown Lawrence\, Manpower has moved to a new location on the west side of town\, in the Orchards Corner Shopping Center\, located&nbsp\;at 3300 Bob Billings Parkway\, Ste. 4.&nbsp\;<br />\n<br />\nPlease join us Thursday\, March 24\, from 4:30 - 5:30 p.m. as we celebrate the move and the new space with a ribbon cutting.&nbsp\;<br />\n<br />\nComplete details on Manpower and its services can be found on its <a href="http://www.manpower.com/">website</a>\, but for an overview\, please see below from Branch Manager\, Heather Bunker:&nbsp\;<br />\n&nbsp\;\n<p style="margin: 0in 0in 11.25pt\; line-height: 13.2pt\; background-image: initial\; background-attachment: initial\; background-size: initial\; background-origin: initial\; background-clip: initial\; background-position: initial\; background-repeat: initial\;"><em><span style="font-size:10.0pt\;\nfont-family:&quot\;Verdana&quot\;\,&quot\;sans-serif&quot\;\;color:#666666">Manpower has been a part of the Lawrence community for over 30 years and serves area businesses in a variety of industries. Our expertise lies in fulfilling our client&rsquo\;s needs for industrial workers\, skilled trade laborers\, call center staff\, and office/administrative personnel. Now more than ever\, the ability to tap the power of people with the right skills and experience can make or break a company. </span></em><span style="font-size:10.0pt\;\nfont-family:&quot\;Verdana&quot\;\,&quot\;sans-serif&quot\;\;color:#666666"><o:p></o:p></span></p>\n\n<p style="margin: 0in 0in 11.25pt\; line-height: 13.2pt\; background-image: initial\; background-attachment: initial\; background-size: initial\; background-origin: initial\; background-clip: initial\; background-position: initial\; background-repeat: initial\;"><em><span style="font-size:10.0pt\;\nfont-family:&quot\;Verdana&quot\;\,&quot\;sans-serif&quot\;\;color:#666666">We started with a single office as a temporary staffing service - perhaps the first business of its kind. Today\, all around the world\, we provide this service and so much more\, including permanent placement\, workforce programs and workforce insight and innovation &ndash\; all designed to optimize human potential and provide businesses with a key competitive advantage. Manpower has been dedicated to matching companies to top talent for over 65 years. </span></em><span style="font-size:10.0pt\;\nfont-family:&quot\;Verdana&quot\;\,&quot\;sans-serif&quot\;\;color:#666666"><o:p></o:p></span></p>\n\n<p style="margin: 0in 0in 11.25pt\; line-height: 13.2pt\; background-image: initial\; background-attachment: initial\; background-size: initial\; background-origin: initial\; background-clip: initial\; background-position: initial\; background-repeat: initial\;"><span style="font-size:10.0pt\;\nfont-family:&quot\;Verdana&quot\;\,&quot\;sans-serif&quot\;\;color:#666666"><em>We began as an industry pioneer and we remain at the forefront as a recognized thought leader in the changing world of work. With our global presence and local expertise\, and by leveraging the peerless expertise of our parent company\, ManpowerGroup\, we influence how people and companies work now and how they will work in the future.</em><o:p></o:p></span></p>\n<br />\n<br />\n&nbsp\;
LOCATION:3300 Bob Billings Parkway\, Ste. 4 Orchards Shopping Center Note: Limited parking available in front of building\; additional parking in Orchards Corner lot facing Kasold Drive.
UID:e.2064.2185
SEQUENCE:3
DTSTAMP:20260423T063021Z
URL:https://members.lawrencechamber.com/events/details/ribbon-cutting-manpower-2185
END:VEVENT

END:VCALENDAR
