BEGIN:VCALENDAR
VERSION:2.0
PRODID:-//ChamberMaster//Event Calendar 2.0//EN
METHOD:PUBLISH
X-PUBLISHED-TTL:P3D
REFRESH-INTERVAL:P3D
CALSCALE:GREGORIAN
BEGIN:VEVENT
DTSTART:20160422T210000Z
DTEND:20160422T220000Z
X-MICROSOFT-CDO-ALLDAYEVENT:FALSE
SUMMARY:Ribbon Cutting: KB & Co.
DESCRIPTION:Please join us Friday\, April 22\, at 4 P.M.\, for a ribbon cutting to celebrate the opening of Lawrence's newest boutique shop - KB & Co. - a "cooperative boutique" concept featuring clothing\, handbags\, KU gear\, shoes and home decor retailers. \n\n\n\nKB & Co.\, owned by Kristie Bowen\, officially opened its doors April 1st in the former M Street Interiors space at 825 Mass.\, in downtown Lawrence. The boutique will house at least 10 different retailers offering upper-end merchandise\, primarily geared toward women.  \n\n\n\nDetails on the KB & Co. products and services can be found on its website: www.shopkbandco.com.
X-ALT-DESC;FMTTYPE=text/html:Please join us Friday\, April 22\, at 4 P.M.\,&nbsp\;for a ribbon cutting to celebrate the opening of Lawrence&#39\;s newest boutique shop - <a href="http://shopkbandco.com/">KB &amp\; Co</a>.&nbsp\;- a &quot\;cooperative boutique&quot\; concept featuring clothing\, handbags\, KU gear\, shoes and home decor retailers.&nbsp\;<br />\n<br />\nKB &amp\; Co.\, owned by Kristie Bowen\, officially opened its doors April 1st in the former M Street Interiors space at 825 Mass.\, in downtown Lawrence. The boutique will house at least 10 different retailers offering upper-end merchandise\, primarily geared toward women. &nbsp\;<br />\n<br />\nDetails on the KB &amp\; Co. products and services can be found on its website: <a href="http://shopkbandco.com/">www.shopkbandco.com</a>.&nbsp\;
LOCATION:825 Massachusetts St.
UID:e.2064.2203
SEQUENCE:3
DTSTAMP:20260422T085218Z
URL:https://members.lawrencechamber.com/events/details/ribbon-cutting-kb-co-2203
END:VEVENT

END:VCALENDAR
