BEGIN:VCALENDAR
VERSION:2.0
PRODID:-//ChamberMaster//Event Calendar 2.0//EN
METHOD:PUBLISH
X-PUBLISHED-TTL:P3D
REFRESH-INTERVAL:P3D
CALSCALE:GREGORIAN
BEGIN:VEVENT
DTSTART:20161013T213000Z
DTEND:20161013T223000Z
X-MICROSOFT-CDO-ALLDAYEVENT:FALSE
SUMMARY:Ribbon Cutting: Double Tree by Hilton
DESCRIPTION:Please join us for a ribbon cutting to celebrate the grand opening of the Double Tree by Hilton\, located at 200 McDonald Drive. \n\n\n\nThe longtime hotel location formerly housed the Holiday Inn and has spent the last year undergoing extensive renovations in their transformation to a Double Tree. \n\n\n\nHere is some background on the transition:\n\n     On September 29\, Hulsing Hotels Kansas\, Inc\, completed a multi-million dollar renovation of the entire hotel\, from the studs up. Designed in a rustic chic theme with a modern twist\, the remodeled public areas\, guest rooms and dining facilities complement updates made to the 18\,000-square-foot convention center\, the largest in Lawrence\, and its surrounding areas.\n\n     The majority of the renovation process took place from November 2015 through September 2016\, covering the entire scope of the hotel. From the addition of three Junior Suites to extending half of rooms to the complete remodel of the public areas\, this hotel is nearly unrecognizable from what it was before\, a Holiday Inn. \n\n     During the Ribbon Cutting\, all meeting space will be opened up for viewing as well as several showrooms\, so that the local Lawrence community and other Chamber members can see all the space\n\n     We are bringing the iconic\, warm and gooey DoubleTree by Hilton Chocolate Chip Cookie with walnuts to Lawrence\, KS as well as another avenue for visitors to Lawrence to obtain HHonors points\, the number one hotel loyalty company in the country.\n\n     Special promotion whereby current HHonors guests can earn an extra 1\,000 bonus points by staying with us for three nights through February 2\, 2017. Chamber members\, plan your staycations stat!
X-ALT-DESC;FMTTYPE=text/html:Please join us for a ribbon cutting to celebrate the grand opening of the <a href="http://doubletree3.hilton.com/en/index.html">Double Tree by Hilton</a>\, located at 200 McDonald Drive.&nbsp\;<br />\n<br />\nThe longtime hotel location formerly housed the Holiday Inn and has spent the last year undergoing extensive renovations in their transformation to a Double Tree.&nbsp\;<br />\n<br />\nHere is some background on the transition:<br />\n<em>&bull\;&nbsp\;&nbsp\; &nbsp\;On September 29\, Hulsing Hotels Kansas\, Inc\, completed a multi-million dollar renovation of the entire hotel\, from the studs up. Designed in a rustic chic theme with a modern twist\, the remodeled public areas\, guest rooms and dining facilities complement updates made to the 18\,000-square-foot convention center\, the largest in Lawrence\, and its surrounding areas.<br />\n&bull\;&nbsp\;&nbsp\; &nbsp\;The majority of the renovation process took place from November 2015 through September 2016\, covering the entire scope of the hotel. From the addition of three Junior Suites to extending half of rooms to the complete remodel of the public areas\, this hotel is nearly unrecognizable from what it was before\, a Holiday Inn.&nbsp\;<br />\n&bull\;&nbsp\;&nbsp\; &nbsp\;During the Ribbon Cutting\, all meeting space will be opened up for viewing as well as several showrooms\, so that the local Lawrence community and other Chamber members can see all the space<br />\n&bull\;&nbsp\;&nbsp\; &nbsp\;We are bringing the iconic\, warm and gooey DoubleTree by Hilton Chocolate Chip Cookie with walnuts to Lawrence\, KS as well as another avenue for visitors to Lawrence to obtain HHonors points\, the number one hotel loyalty company in the country.<br />\n&bull\;&nbsp\;&nbsp\; &nbsp\;Special promotion whereby current HHonors guests can earn an extra 1\,000 bonus points by staying with us for three nights through February 2\, 2017. Chamber members\, plan your staycations stat!</em>
LOCATION:200 McDonald Drive Lawrence\, KS 66044
UID:e.2064.2271
SEQUENCE:3
DTSTAMP:20260421T042712Z
URL:https://members.lawrencechamber.com/events/details/ribbon-cutting-double-tree-by-hilton-2271
END:VEVENT

END:VCALENDAR
