BEGIN:VCALENDAR
VERSION:2.0
PRODID:-//ChamberMaster//Event Calendar 2.0//EN
METHOD:PUBLISH
X-PUBLISHED-TTL:P3D
REFRESH-INTERVAL:P3D
CALSCALE:GREGORIAN
BEGIN:VEVENT
DTSTART:20160421T203000Z
DTEND:20160421T220000Z
X-MICROSOFT-CDO-ALLDAYEVENT:FALSE
SUMMARY:Regional Economic Development Incentive Program
DESCRIPTION:Join The Chamber for an educational event regarding economic development incentives. Hear from the Kansas City Area Development Council President Tim Cowden and Steve Kelly\, the Deputy Secretary of the Kansas Department of Commerce.
X-ALT-DESC;FMTTYPE=text/html:Join The Chamber for an educational event regarding economic development incentives. Hear from the Kansas City Area Development Council President Tim Cowden and Steve&nbsp\;Kelly\, the Deputy Secretary of the Kansas Department of Commerce.&nbsp\;
LOCATION:The Carnegie Building 200 W. 9th Street
UID:e.2064.2165
SEQUENCE:3
DTSTAMP:20260422T024251Z
URL:https://members.lawrencechamber.com/events/details/regional-economic-development-incentive-program-2165
END:VEVENT

END:VCALENDAR
