BEGIN:VCALENDAR
VERSION:2.0
PRODID:-//ChamberMaster//Event Calendar 2.0//EN
METHOD:PUBLISH
X-PUBLISHED-TTL:P3D
REFRESH-INTERVAL:P3D
CALSCALE:GREGORIAN
BEGIN:VEVENT
DTSTART:20180425T130000Z
DTEND:20180425T210000Z
X-MICROSOFT-CDO-ALLDAYEVENT:FALSE
SUMMARY:Photoshop Fundamentals - Windows
DESCRIPTION:Use Adobe Photoshop to create professional-looking images for both print and the Web. Identify components of the Photoshop environment\, explore methods of selecting image areas. Modify and manipulate selections. Learn to work with text\, layers\, and layer effects. Adjust\, retouch\, and resize images. Prepare images for printing and the web. Optimize color management for print. Explore techniques for adjusting image quality and make color adjustments. \n\n\n\nThis course is a component of the Adobe Design Essentials Certificate and the Adobe Photoshop Specialist Certificate.\n\nTextbook included in course fee. Textbooks distributed in first course meeting.\n\nPrerequisite: Comfortable using Windows\, keyboard\, and mouse.
X-ALT-DESC;FMTTYPE=text/html:<p>Use Adobe Photoshop to create professional-looking images for both print and the Web. Identify components of the Photoshop environment\, explore methods of selecting image areas. Modify and manipulate selections. Learn to work with text\, layers\, and layer effects. Adjust\, retouch\, and resize images. Prepare images for printing and the web. Optimize color management for print. Explore techniques for adjusting image quality and make color adjustments.&nbsp\;<br />\n<br />\n<strong>This course is a component of the <a href="http://www.jccc.edu/academics/arts-design/graphic-design/ce-adobe-design-essentials-certificate.html" target="_blank">Adobe Design Essentials Certificate</a> and the <a href="http://www.jccc.edu/academics/arts-design/graphic-design/ce-photoshop-certificate.html" target="_blank">Adobe Photoshop Specialist Certificate</a>.</strong></p>\n\n<p>Textbook included in course fee.&nbsp\;Textbooks distributed in first course meeting.</p>\n\n<p><em>Prerequisite: Comfortable using Windows\, keyboard\, and mouse.&nbsp\;</em></p>\n
LOCATION:Peaslee Technical Training Center\, Classroom C (computer lab) 2920 Haskell Avenue Lawrence\, KS
UID:e.2064.2769
SEQUENCE:3
DTSTAMP:20260420T230057Z
URL:https://members.lawrencechamber.com/events/details/photoshop-fundamentals-windows-2769
END:VEVENT

END:VCALENDAR
