BEGIN:VCALENDAR
VERSION:2.0
PRODID:-//ChamberMaster//Event Calendar 2.0//EN
METHOD:PUBLISH
X-PUBLISHED-TTL:P3D
REFRESH-INTERVAL:P3D
CALSCALE:GREGORIAN
BEGIN:VEVENT
DTSTART:20170521T190000Z
DTEND:20170521T200000Z
X-MICROSOFT-CDO-ALLDAYEVENT:FALSE
SUMMARY:Peaslee Tech Celebrates First Graduating Certificate Holders
DESCRIPTION:Sunday\, May 21\, is a day to celebrate at Peaslee Tech. After opening its doors in fall 2015\, the first graduating certificate holders will be recognized with a celebration in their honor. The celebration will include remarks\, program demonstrations\, tours of the facility\, and refreshments. \n\n\n\nPlease RSVP by calling (785) 856-1807.
X-ALT-DESC;FMTTYPE=text/html:Sunday\, May 21\, is a day to celebrate at Peaslee Tech. After opening its doors in fall 2015\, the first graduating certificate holders will be recognized with a celebration in their honor. The celebration will include remarks\, program demonstrations\, tours of the facility\, and refreshments.&nbsp\;<br />\n<br />\nPlease RSVP by calling (785) 856-1807.
LOCATION:Peaslee Tech 2920 Haskell Ave. Lawrence\, KS
UID:e.2064.2407
SEQUENCE:3
DTSTAMP:20260419T192204Z
URL:https://members.lawrencechamber.com/events/details/peaslee-tech-celebrates-first-graduating-certificate-holders-2407
END:VEVENT

END:VCALENDAR
