BEGIN:VCALENDAR
VERSION:2.0
PRODID:-//ChamberMaster//Event Calendar 2.0//EN
METHOD:PUBLISH
X-PUBLISHED-TTL:P3D
REFRESH-INTERVAL:P3D
CALSCALE:GREGORIAN
BEGIN:VEVENT
DTSTART:20170309T220000Z
DTEND:20170310T010000Z
X-MICROSOFT-CDO-ALLDAYEVENT:FALSE
SUMMARY:Open House with Evolve Granite & Natural Stone
DESCRIPTION:Join Evolve Granite & Natural Stone for an open house on Thursday\, March 9\, from 4:00 - 7:00 p.m. Enjoy door prizes\, tours\, food\, drinks\, and meeting the staff! \n\n\n\nRSVP to salessupport@evolvegranite.com and bring a friend!
X-ALT-DESC;FMTTYPE=text/html:Join Evolve Granite &amp\; Natural Stone for an open house on Thursday\, March 9\, from 4:00 - 7:00 p.m. Enjoy door prizes\, tours\, food\, drinks\, and meeting the staff!&nbsp\;<br />\n<br />\nRSVP to salessupport@evolvegranite.com and bring a friend!
LOCATION:815 E. Old 56 Highway Olathe\, KS
UID:e.2064.2373
SEQUENCE:3
DTSTAMP:20260420T230741Z
URL:https://members.lawrencechamber.com/events/details/open-house-with-evolve-granite-natural-stone-2373
END:VEVENT

END:VCALENDAR
