BEGIN:VCALENDAR
VERSION:2.0
PRODID:-//ChamberMaster//Event Calendar 2.0//EN
METHOD:PUBLISH
X-PUBLISHED-TTL:P3D
REFRESH-INTERVAL:P3D
CALSCALE:GREGORIAN
BEGIN:VEVENT
DTSTART;VALUE=DATE:20161021
DTEND;VALUE=DATE:20161022
TRANSP:TRANSPARENT
X-MICROSOFT-CDO-ALLDAYEVENT:TRUE
SUMMARY:Open House
DESCRIPTION:Beverages and food by Maceli's\, chair massages\, tours and drawings.  Meet the fabulous therapists of TherapyWorks during our annual open house celebrating National Physical Therapy Month!
X-ALT-DESC;FMTTYPE=text/html:Beverages and food by Maceli&#39\;s\, chair massages\, tours and drawings. &nbsp\;Meet the fabulous therapists of TherapyWorks during our annual open house celebrating National Physical Therapy Month!
LOCATION:1311 Wakarusa Drive\, Suite 1000 Lawrence\, KS 66049
UID:e.2064.2296
SEQUENCE:3
DTSTAMP:20260421T045131Z
URL:https://members.lawrencechamber.com/events/details/open-house-2296
END:VEVENT

END:VCALENDAR
