BEGIN:VCALENDAR
VERSION:2.0
PRODID:-//ChamberMaster//Event Calendar 2.0//EN
METHOD:PUBLISH
X-PUBLISHED-TTL:P3D
REFRESH-INTERVAL:P3D
CALSCALE:GREGORIAN
BEGIN:VEVENT
DTSTART:20170314T180000Z
DTEND:20170314T193000Z
X-MICROSOFT-CDO-ALLDAYEVENT:FALSE
SUMMARY:Noxious Weeds or Obnoxious Plants
DESCRIPTION:Join John Landon\, Douglas County Noxious Weed Director and Alan Hollinger\, Vegetation Control Specialist\, for a presentation on the listed noxious weeds of Douglas County and the best methods of control. If you don't know the difference between Musk Thistle or Bull Thistle\, or what to do about Sericea lespedeza\, here is your chance to get answers to all your noxious weed questions.
X-ALT-DESC;FMTTYPE=text/html:Join John Landon\, Douglas County Noxious Weed Director and Alan Hollinger\, Vegetation Control Specialist\, for a presentation on the listed noxious weeds of Douglas County and the best methods of control. If you don&#39\;t know the difference between Musk Thistle or Bull Thistle\, or what to do about Sericea lespedeza\, here is your chance to get answers to all your noxious weed questions.
LOCATION:Douglas County Public Works Auditorium\, 3755 E. 25th Street\, Lawrence
UID:e.2064.2360
SEQUENCE:3
DTSTAMP:20260422T052635Z
URL:https://members.lawrencechamber.com/events/details/noxious-weeds-or-obnoxious-plants-2360
END:VEVENT

END:VCALENDAR
