BEGIN:VCALENDAR
VERSION:2.0
PRODID:-//ChamberMaster//Event Calendar 2.0//EN
METHOD:PUBLISH
X-PUBLISHED-TTL:P3D
REFRESH-INTERVAL:P3D
CALSCALE:GREGORIAN
BEGIN:VEVENT
DTSTART:20260422T233000Z
DTEND:20260423T003000Z
X-MICROSOFT-CDO-ALLDAYEVENT:FALSE
SUMMARY:Mingle\, Munchies\, & Money
DESCRIPTION:Join the team from Primerica to Mingle\, snack on Munchies\, and learn about Money! This program is perfect for all levels of financial literacy - if you know nothing\, just a little\, or a lot but are always on the look out for new resources\, we've got you covered. \n\n\n\nIn a casual environment where you are able to meet and network with others in the community\, you will recieve a general overview of how to make your money count.
X-ALT-DESC;FMTTYPE=text/html:Join the team from Primerica to Mingle\, snack on Munchies\, and learn about Money! This program is perfect for all levels of financial literacy - if you know nothing\, just a little\, or a lot but are always on the look out for new resources\, we&#39\;ve got you covered.&nbsp\;<br />\n<br />\nIn a casual environment where you are able to meet and network with others in the community\, you will recieve a general overview of how to make your money count.
LOCATION:Wayne & Larry's Event Room\, 933 Iowa St.\, Lawrence\, KS
UID:e.2064.18072
SEQUENCE:3
DTSTAMP:20260420T195841Z
URL:https://members.lawrencechamber.com/events/details/mingle-munchies-money-18072
END:VEVENT

END:VCALENDAR
