BEGIN:VCALENDAR
VERSION:2.0
PRODID:-//ChamberMaster//Event Calendar 2.0//EN
METHOD:PUBLISH
X-PUBLISHED-TTL:P3D
REFRESH-INTERVAL:P3D
CALSCALE:GREGORIAN
BEGIN:VEVENT
DTSTART:20171024T210000Z
DTEND:20171024T210000Z
X-MICROSOFT-CDO-ALLDAYEVENT:FALSE
SUMMARY:Mental Health First Aid
DESCRIPTION:Mental Health First Aid (MHFA) is an 8-hour training course offered by Bert Nash Community Mental Health Center.  This training is designed to give individuals the skills they need to help someone who may be experiencing a mental health crisis or developing a mental health problem.  Participants learn the facts and warning signs of mental illness.  Trainees are taught how to apply the 5-step strategy in a variety of situations\, such as helping someone through a panic attack\, engaging with someone who may be suicidal\, or assisting an individual who has overdosed.  An important component of the MHFA training is the opportunity to practice the intervention strategy.  This simple experience can make it easier to actually apply the knowledge in a real-life situation.
X-ALT-DESC;FMTTYPE=text/html:<span style="font-size:medium"><span style="font-family:calibri">Mental Health First Aid (MHFA) is an 8-hour training course offered by Bert Nash Community Mental Health Center.&nbsp\; This training is designed to give individuals the skills they need to help someone who may be experiencing a mental health crisis or developing a mental health problem.&nbsp\; Participants learn the facts and warning signs of mental illness.&nbsp\; Trainees are taught how to apply the 5-step strategy in a variety of situations\, such as helping someone through a panic attack\, engaging with someone who may be suicidal\, or assisting an individual who has overdosed.&nbsp\; An important component of the MHFA training is the opportunity to practice the intervention strategy.&nbsp\; This simple experience can make it easier to actually apply the knowledge in a real-life situation.&nbsp\; </span></span><br />\n&nbsp\;
LOCATION:Bert Nash Community Health Center 200 Maine Street Lawrence\, KS 66044 (1st floor meeting rooms/ next door to the Lawrence-Douglas County Health Dept)
UID:e.2064.2425
SEQUENCE:3
DTSTAMP:20260420T093928Z
URL:https://members.lawrencechamber.com/events/details/mental-health-first-aid-10-24-2017-2425
END:VEVENT

END:VCALENDAR
