BEGIN:VCALENDAR
VERSION:2.0
PRODID:-//ChamberMaster//Event Calendar 2.0//EN
METHOD:PUBLISH
X-PUBLISHED-TTL:P3D
REFRESH-INTERVAL:P3D
CALSCALE:GREGORIAN
BEGIN:VEVENT
DTSTART;VALUE=DATE:20260508
DTEND;VALUE=DATE:20260509
TRANSP:TRANSPARENT
X-MICROSOFT-CDO-ALLDAYEVENT:TRUE
SUMMARY:LUMA dance floor experience!
DESCRIPTION:Be some of the first folks to see the newest amazing technology in immersive LED dance floors!! Impress your guests at corporate functions\, weddings\, collegiate activities\, and much more.\n\n\n\nHappy Hour cash bar will be available throughout this event.
X-ALT-DESC;FMTTYPE=text/html:Be some of the first folks to see the newest amazing technology in immersive LED dance floors!! Impress your guests at corporate functions\, weddings\, collegiate activities\, and much more.<br />\n<br />\nHappy Hour cash bar will be available throughout this event.
LOCATION:The Barn at Randelwood Estates 1629 E 800th Rd\, Lawrence\, KS
UID:e.2064.18073
SEQUENCE:3
DTSTAMP:20260422T081633Z
URL:https://members.lawrencechamber.com/events/details/luma-dance-floor-experience-18073
END:VEVENT

END:VCALENDAR
