BEGIN:VCALENDAR
VERSION:2.0
PRODID:-//ChamberMaster//Event Calendar 2.0//EN
METHOD:PUBLISH
X-PUBLISHED-TTL:P3D
REFRESH-INTERVAL:P3D
CALSCALE:GREGORIAN
BEGIN:VEVENT
DTSTART:20260403T150000Z
DTEND:20260403T190000Z
X-MICROSOFT-CDO-ALLDAYEVENT:FALSE
SUMMARY:Jayhawk Fridays
DESCRIPTION:Jayhawk Fridays are designed to showcase local vendors who wish to sell products or services on campus. The event occurs the first Friday of each month\, April through October\, from 10 AM to 2 PM outside of the Kansas Union.\n\nClick here to view more information and apply to be a vendor: https://union.ku.edu/JayhawkFridays and follow us @kuunions on Instagram for any updates. \n\nIf you are in need of an accommodation due to a disability\, please submit your request at least 7 business days in advance of the event to KU Marketing and Programs. \n\nEmail: programs@ku.edu Phone: (785) 864-7469.
X-ALT-DESC;FMTTYPE=text/html:<p>Jayhawk Fridays are designed to showcase local vendors who wish to sell products or services on campus. The event occurs the first Friday of each month\, April through October\, from 10 AM to 2 PM outside of the Kansas Union.</p>\n\n<p>Click here to view more information and apply to be a vendor:&nbsp\;https://union.ku.edu/JayhawkFridays and follow us @kuunions on Instagram for any updates.&nbsp\;</p>\n\n<p>If you are in need of an accommodation due to a disability\, please submit your request at least 7 business days in advance of the event to KU Marketing and Programs.&nbsp\;</p>\n\n<p>Email: programs@ku.edu Phone: (785) 864-7469.&nbsp\;</p>\n
LOCATION:Kansas Union - 1301 Jayhawk Blvd on Ascher Plaza
UID:e.2064.17396
SEQUENCE:3
DTSTAMP:20260421T114812Z
URL:https://members.lawrencechamber.com/events/details/jayhawk-fridays-17396
END:VEVENT

END:VCALENDAR
