BEGIN:VCALENDAR
VERSION:2.0
PRODID:-//ChamberMaster//Event Calendar 2.0//EN
METHOD:PUBLISH
X-PUBLISHED-TTL:P3D
REFRESH-INTERVAL:P3D
CALSCALE:GREGORIAN
BEGIN:VEVENT
DTSTART:20260513T223000Z
DTEND:20260514T000000Z
X-MICROSOFT-CDO-ALLDAYEVENT:FALSE
SUMMARY:JAMS Mural Unveiling for Van Go
DESCRIPTION:Join us as we unveil our latest mural project completed by our JAMS Apprentice Artists and celebrate the completion of the session! We will be unveiling 5 unique picnic tables that honor the many legacies of Lawrence and showcase the deep culture of Kansas to our global visitors this summer for the World Cup!\n\nWe will have snack and light refreshments and encourage folks to arrive at 5:15pm when our doors open. Programming will begin at 5:30pm followed by the unveiling!\n\nThe event is a pet free event with exception for service animals and is free and open to the public.
X-ALT-DESC;FMTTYPE=text/html:<p>Join us as we unveil our latest mural project completed by our JAMS Apprentice Artists and celebrate the completion of the session! We will be unveiling 5 unique picnic tables that honor the many legacies of Lawrence and showcase the deep culture of Kansas to our global visitors this summer for the World Cup!</p>\n\n<p>We will have snack and light refreshments and encourage folks to arrive at 5:15pm when our doors open. Programming will begin at 5:30pm followed by the unveiling!</p>\n\n<p>The event is a pet free event with exception for service animals and is free and open to the public.</p>\n
LOCATION:715 New Jersey Street\, Lawrence\, KS 66044
UID:e.2064.18075
SEQUENCE:3
DTSTAMP:20260422T213825Z
URL:https://members.lawrencechamber.com/events/details/jams-mural-unveiling-for-van-go-18075
END:VEVENT

END:VCALENDAR
