BEGIN:VCALENDAR
VERSION:2.0
PRODID:-//ChamberMaster//Event Calendar 2.0//EN
METHOD:PUBLISH
X-PUBLISHED-TTL:P3D
REFRESH-INTERVAL:P3D
CALSCALE:GREGORIAN
BEGIN:VEVENT
DTSTART:20161001T140000Z
DTEND:20161001T170000Z
X-MICROSOFT-CDO-ALLDAYEVENT:FALSE
SUMMARY:INTRUST Bank FREE Shred Event
DESCRIPTION:FREE Shred Event on Saturday\, October 1st from 9:00 am-noon.  Bring your documents for on-site shredding to the INTRUST Banking Center located at 901 Vermont St.
X-ALT-DESC;FMTTYPE=text/html:FREE Shred Event on Saturday\, October 1st from 9:00&nbsp\;am-noon.&nbsp\; Bring your documents for on-site shredding to the INTRUST Banking Center&nbsp\;located at 901 Vermont St.
LOCATION:
UID:e.2064.2247
SEQUENCE:3
DTSTAMP:20260422T053514Z
URL:https://members.lawrencechamber.com/events/details/intrust-bank-free-shred-event-2247
END:VEVENT

END:VCALENDAR
