BEGIN:VCALENDAR
VERSION:2.0
PRODID:-//ChamberMaster//Event Calendar 2.0//EN
METHOD:PUBLISH
X-PUBLISHED-TTL:P3D
REFRESH-INTERVAL:P3D
CALSCALE:GREGORIAN
BEGIN:VEVENT
DTSTART:20170629T210000Z
DTEND:20170629T220000Z
X-MICROSOFT-CDO-ALLDAYEVENT:FALSE
SUMMARY:Groundbreaking: TRU by Hilton
DESCRIPTION:Join us for a groundbreaking on June 29 at 4 p.m. for a new Lawrence hotel - TRU by Hilton!\n\n\n\nHere's more about TRU by Hilton:\n\nWe've opened the doors to something different. Say hello to a brand-new hotel experience from Hilton that's vibrant\, affordable and young-at-heart. It's energetic\, yet relaxing and comfortable. It's familiar\, and it's also unexpected. It's completely unprecedented\, it's distinctively Tru.
X-ALT-DESC;FMTTYPE=text/html:Join us for a groundbreaking on June 29 at 4 p.m. for a new Lawrence hotel - TRU by Hilton!<br />\n<br />\nHere&#39\;s more about TRU by Hilton:<br />\n<em>We&#39\;ve opened the doors to something different. Say hello to a brand-new hotel experience from Hilton that&#39\;s vibrant\, affordable and young-at-heart. It&#39\;s energetic\, yet relaxing and comfortable. It&#39\;s familiar\, and it&#39\;s also unexpected. It&#39\;s completely unprecedented\, it&#39\;s distinctively Tru.</em>
LOCATION:510 Wakarusa Drive Lawrence\, KS
UID:e.2064.2410
SEQUENCE:3
DTSTAMP:20260422T052710Z
URL:https://members.lawrencechamber.com/events/details/groundbreaking-tru-by-hilton-2410
END:VEVENT

END:VCALENDAR
