BEGIN:VCALENDAR
VERSION:2.0
PRODID:-//ChamberMaster//Event Calendar 2.0//EN
METHOD:PUBLISH
X-PUBLISHED-TTL:P3D
REFRESH-INTERVAL:P3D
CALSCALE:GREGORIAN
BEGIN:VEVENT
DTSTART:20251129T010000Z
DTEND:20251129T040000Z
X-MICROSOFT-CDO-ALLDAYEVENT:FALSE
SUMMARY:Final (Festive) Friday at Festival of Trees featuring the Jazz Cigarettes
DESCRIPTION:Final (Festive) Friday at Festival of Trees featuring the Jazz Cigarettes- join us for a Date Night or a Fun Night Out!\n\n \n\nEnjoy holiday-themed cocktails from the mixologists of Maceli's and the music from the Jazz Cigarettes as you explore the fabulous trees\, wreaths and displays of this year's Festival of Trees.\n\n \n\nTickets are available from the Maceli's website. $5 of every ticket sold is a donation to O'Connell Children's Shelter\, which has provided support for youth and families in Lawence and surrounding communities since 1976.
X-ALT-DESC;FMTTYPE=text/html:<div>Final (Festive) Friday at Festival of Trees featuring the Jazz Cigarettes- join us for a Date Night or a Fun Night Out!<br />\n&nbsp\;</div>\n\n<div>Enjoy holiday-themed cocktails from the mixologists of Maceli&#39\;s and the music from the Jazz Cigarettes as you explore the fabulous trees\, wreaths and displays of this year&#39\;s Festival of Trees.<br />\n&nbsp\;</div>\n\n<div>Tickets are available from the Maceli&#39\;s website. $5 of every ticket sold is a donation to O&#39\;Connell Children&#39\;s Shelter\, which has provided support for youth and families in Lawence and surrounding communities since 1976.</div>\n
LOCATION:Maceli's\, 1031 New Hampshire Street\, Lawrence\, KS 66044
UID:e.2064.17028
SEQUENCE:3
DTSTAMP:20260421T102845Z
URL:https://members.lawrencechamber.com/events/details/final-festive-friday-at-festival-of-trees-featuring-the-jazz-cigarettes-17028
END:VEVENT

END:VCALENDAR
