BEGIN:VCALENDAR
VERSION:2.0
PRODID:-//ChamberMaster//Event Calendar 2.0//EN
METHOD:PUBLISH
X-PUBLISHED-TTL:P3D
REFRESH-INTERVAL:P3D
CALSCALE:GREGORIAN
BEGIN:VEVENT
DTSTART:20260510T170000Z
DTEND:20260510T220000Z
X-MICROSOFT-CDO-ALLDAYEVENT:FALSE
SUMMARY:Feria de Kansas
DESCRIPTION:We are so looking forward to welcoming Spring like the Sevillanos do! And this year we have chosen to have our event on Mother s Day to honor all those Moms out there.\n\nJoin us and dance\, enjoy performances\, paella and drinks all from Sevilla\, Spain. There is nothing like family\, friends and celebration and we can t wait to celebrate with you!!
X-ALT-DESC;FMTTYPE=text/html:<h3>We are so looking forward to welcoming Spring like the Sevillanos do! And this year we have chosen to have our event on Mother&acute\;s Day to honor all those Moms out there.</h3>\n\n<h3>Join us and dance\, enjoy performances\, paella and drinks all from Sevilla\, Spain. There is nothing like family\, friends and celebration and we can&acute\;t wait to celebrate with you!!</h3>\n
LOCATION:Cider Gallery 810 Pennsylvania St
UID:e.2064.18069
SEQUENCE:3
DTSTAMP:20260422T081118Z
URL:https://members.lawrencechamber.com/events/details/feria-de-kansas-18069
END:VEVENT

END:VCALENDAR
