BEGIN:VCALENDAR
VERSION:2.0
PRODID:-//ChamberMaster//Event Calendar 2.0//EN
METHOD:PUBLISH
X-PUBLISHED-TTL:P3D
REFRESH-INTERVAL:P3D
CALSCALE:GREGORIAN
BEGIN:VEVENT
DTSTART:20160413T140000Z
DTEND:20160413T170000Z
X-MICROSOFT-CDO-ALLDAYEVENT:FALSE
SUMMARY:Express Employment Refresh Leadership Live Webinar
DESCRIPTION:Mark your calendars for the seventh annual Refresh Leadership Live Simulcast. This year's speaker lineup features an outstanding trio of leadership and development experts ready to share their expertise on reaching the next level\, inspiring your people\, and becoming a more effective leader. Speakers include Marshall Goldsmith\, Author\, Professor and Executive Coach\; Shaquille O'Neal\, Television Sports Analyst and 15-time NBA All-Star\; and Kaplan Mobray\, Author\, Motivational Speaker and Career Consultant.
X-ALT-DESC;FMTTYPE=text/html:Mark your calendars for the seventh annual Refresh Leadership Live Simulcast. This year&#39\;s speaker lineup features an outstanding trio of leadership and development experts ready to share their expertise on reaching the next level\, inspiring your people\, and becoming a more effective leader. Speakers include Marshall Goldsmith\, Author\, Professor and Executive Coach\; Shaquille O&#39\;Neal\, Television Sports Analyst and 15-time NBA All-Star\; and Kaplan Mobray\, Author\, Motivational Speaker and Career Consultant.
LOCATION:Golf Course Superintendents Association
UID:e.2064.2186
SEQUENCE:3
DTSTAMP:20260422T080541Z
URL:https://members.lawrencechamber.com/events/details/express-employment-refresh-leadership-live-webinar-2186
END:VEVENT

END:VCALENDAR
