BEGIN:VCALENDAR
VERSION:2.0
PRODID:-//ChamberMaster//Event Calendar 2.0//EN
METHOD:PUBLISH
X-PUBLISHED-TTL:P3D
REFRESH-INTERVAL:P3D
CALSCALE:GREGORIAN
BEGIN:VEVENT
DTSTART:20170427T133000Z
DTEND:20170427T150000Z
X-MICROSOFT-CDO-ALLDAYEVENT:FALSE
SUMMARY:Choosing a Retirement Solution for Your Small Business Workshop
DESCRIPTION:Interested in establishing or sponsoring a retirement plan for you and your employees\, but aren't sure which plan fits your needs?\n\n\n\nThe Employee Benefits Security Adminstration's "Choosing a Retirement Solution for Your Small Business" workshop will assist small employers in making this decision. Pre-registration is required and seats are allocated on a first come basis.
X-ALT-DESC;FMTTYPE=text/html:Interested in establishing or sponsoring a retirement plan for you and your employees\, but aren&#39\;t sure which plan fits your needs?<br />\n<br />\nThe Employee Benefits Security Adminstration&#39\;s&nbsp\;&quot\;Choosing a Retirement Solution for Your Small Business&quot\; workshop will assist small employers in making this decision. Pre-registration is required and seats are allocated on a first come basis.
LOCATION:Kansas Small Business Development Center at JCCC 12345 College Blvd.\, Regnier Center\, Room 240 Overland Park\, KS
UID:e.2064.2389
SEQUENCE:3
DTSTAMP:20260423T003234Z
URL:https://members.lawrencechamber.com/events/details/choosing-a-retirement-solution-for-your-small-business-workshop-2389
END:VEVENT

END:VCALENDAR
