BEGIN:VCALENDAR
VERSION:2.0
PRODID:-//ChamberMaster//Event Calendar 2.0//EN
METHOD:PUBLISH
X-PUBLISHED-TTL:P3D
REFRESH-INTERVAL:P3D
CALSCALE:GREGORIAN
BEGIN:VEVENT
DTSTART;VALUE=DATE:20170703
DTEND;VALUE=DATE:20170705
TRANSP:TRANSPARENT
X-MICROSOFT-CDO-ALLDAYEVENT:TRUE
SUMMARY:Chamber Offices Closed
DESCRIPTION:The Chamber offices will be closed Monday\, July 3\, and Tuesday\, July 4\, in observance of Independence Day
X-ALT-DESC;FMTTYPE=text/html:The Chamber offices will be closed Monday\, July 3\, and Tuesday\, July 4\, in observance of Independence Day&nbsp\;&nbsp\;&nbsp\;&nbsp\;
LOCATION:
UID:e.2064.2428
SEQUENCE:3
DTSTAMP:20260423T074135Z
URL:https://members.lawrencechamber.com/events/details/chamber-offices-closed-2428
END:VEVENT

END:VCALENDAR
