BEGIN:VCALENDAR
VERSION:2.0
PRODID:-//ChamberMaster//Event Calendar 2.0//EN
METHOD:PUBLISH
X-PUBLISHED-TTL:P3D
REFRESH-INTERVAL:P3D
CALSCALE:GREGORIAN
BEGIN:VEVENT
DTSTART:20260416T210000Z
DTEND:20260416T230000Z
X-MICROSOFT-CDO-ALLDAYEVENT:FALSE
SUMMARY:Business After Hours by 23rd St. Brewery - April 2026
DESCRIPTION:Join us on Thursday\, April 16 from 4:00 to 6:00 p.m.\, for The Chamber's Business After Hours mixer hosted by 23rd St. Brewery!\n\n\n\nStop by on the patio to network and socialize while enjoying complimentary snacks and beverages. (If weather occurs\, we will simply move inside.)\n\n\n\nBusiness After Hours mixers are always free and open to all Chamber members and guests. No reservations required to attend. \n\n\n\nWe look forward to seeing you there for this spring kickoff party!
X-ALT-DESC;FMTTYPE=text/html:<span style="font-family: &quot\;Roboto Slab&quot\;\, Arial\, Helvetica\, sans-serif\; font-size: 15px\;">Join us on Thursday\, April 16 from 4:00 to 6:00 p.m.\, for The Chamber&#39\;s Business After Hours mixer hosted by <em>23rd St. Brewery!</em></span><br style="inset: auto\; box-sizing: content-box\; clear: none\; content: normal\; direction: inherit\; display: inline\; empty-cells: show\; float: none\; font-variant-numeric: inherit\; font-variant-east-asian: inherit\; font-stretch: inherit\; font-size: 15px\; font-family: &quot\;Roboto Slab&quot\;\, Arial\, Helvetica\, sans-serif\; line-height: inherit\; margin: 0px\; max-height: none\; max-width: none\; min-height: initial\; min-width: initial\; opacity: 1\; outline-offset: 0px\; overflow: visible\; padding: 0px\; position: static\; resize: none\; table-layout: auto\; text-overflow: clip\; vertical-align: baseline\; visibility: inherit\; word-break: inherit\; overflow-wrap: inherit\; z-index: auto\; background-image: none\; background-position: initial\; background-size: initial\; background-repeat: initial\; background-attachment: initial\; background-origin: initial\; background-clip: initial\; border: none\; border-collapse: separate\; border-radius: 0px\; height: auto\; width: auto\;" />\n<br style="inset: auto\; box-sizing: content-box\; clear: none\; content: normal\; direction: inherit\; display: inline\; empty-cells: show\; float: none\; font-variant-numeric: inherit\; font-variant-east-asian: inherit\; font-stretch: inherit\; font-size: 15px\; font-family: &quot\;Roboto Slab&quot\;\, Arial\, Helvetica\, sans-serif\; line-height: inherit\; margin: 0px\; max-height: none\; max-width: none\; min-height: initial\; min-width: initial\; opacity: 1\; outline-offset: 0px\; overflow: visible\; padding: 0px\; position: static\; resize: none\; table-layout: auto\; text-overflow: clip\; vertical-align: baseline\; visibility: inherit\; word-break: inherit\; overflow-wrap: inherit\; z-index: auto\; background-image: none\; background-position: initial\; background-size: initial\; background-repeat: initial\; background-attachment: initial\; background-origin: initial\; background-clip: initial\; border: none\; border-collapse: separate\; border-radius: 0px\; height: auto\; width: auto\;" />\n<span style="font-family: &quot\;Roboto Slab&quot\;\, Arial\, Helvetica\, sans-serif\; font-size: 15px\;">Stop by </span><font color="#202124" face="Roboto\, arial\, sans-serif"><span style="font-size: 14px\;">on the patio</span></font><span style="font-family: &quot\;Roboto Slab&quot\;\, Arial\, Helvetica\, sans-serif\; font-size: 15px\;">&nbsp\;to network and socialize while enjoying&nbsp\;complimentary snacks and beverages. (If weather occurs\, we will simply move inside.)</span><br style="inset: auto\; box-sizing: content-box\; clear: none\; content: normal\; direction: inherit\; display: inline\; empty-cells: show\; float: none\; font-variant-numeric: inherit\; font-variant-east-asian: inherit\; font-stretch: inherit\; font-size: 15px\; font-family: &quot\;Roboto Slab&quot\;\, Arial\, Helvetica\, sans-serif\; line-height: inherit\; margin: 0px\; max-height: none\; max-width: none\; min-height: initial\; min-width: initial\; opacity: 1\; outline-offset: 0px\; overflow: visible\; padding: 0px\; position: static\; resize: none\; table-layout: auto\; text-overflow: clip\; vertical-align: baseline\; visibility: inherit\; word-break: inherit\; overflow-wrap: inherit\; z-index: auto\; background-image: none\; background-position: initial\; background-size: initial\; background-repeat: initial\; background-attachment: initial\; background-origin: initial\; background-clip: initial\; border: none\; border-collapse: separate\; border-radius: 0px\; height: auto\; width: auto\;" />\n<br style="inset: auto\; box-sizing: content-box\; clear: none\; content: normal\; direction: inherit\; display: inline\; empty-cells: show\; float: none\; font-variant-numeric: inherit\; font-variant-east-asian: inherit\; font-stretch: inherit\; font-size: 15px\; font-family: &quot\;Roboto Slab&quot\;\, Arial\, Helvetica\, sans-serif\; line-height: inherit\; margin: 0px\; max-height: none\; max-width: none\; min-height: initial\; min-width: initial\; opacity: 1\; outline-offset: 0px\; overflow: visible\; padding: 0px\; position: static\; resize: none\; table-layout: auto\; text-overflow: clip\; vertical-align: baseline\; visibility: inherit\; word-break: inherit\; overflow-wrap: inherit\; z-index: auto\; background-image: none\; background-position: initial\; background-size: initial\; background-repeat: initial\; background-attachment: initial\; background-origin: initial\; background-clip: initial\; border: none\; border-collapse: separate\; border-radius: 0px\; height: auto\; width: auto\;" />\n<span style="font-family: &quot\;Roboto Slab&quot\;\, Arial\, Helvetica\, sans-serif\; font-size: 15px\;">Business After Hours mixers are always free and open to all Chamber members and guests. No&nbsp\;reservations required&nbsp\;to attend.&nbsp\;</span><br style="inset: auto\; box-sizing: content-box\; clear: none\; content: normal\; direction: inherit\; display: inline\; empty-cells: show\; float: none\; font-variant-numeric: inherit\; font-variant-east-asian: inherit\; font-stretch: inherit\; font-size: 15px\; font-family: &quot\;Roboto Slab&quot\;\, Arial\, Helvetica\, sans-serif\; line-height: inherit\; margin: 0px\; max-height: none\; max-width: none\; min-height: initial\; min-width: initial\; opacity: 1\; outline-offset: 0px\; overflow: visible\; padding: 0px\; position: static\; resize: none\; table-layout: auto\; text-overflow: clip\; vertical-align: baseline\; visibility: inherit\; word-break: inherit\; overflow-wrap: inherit\; z-index: auto\; background-image: none\; background-position: initial\; background-size: initial\; background-repeat: initial\; background-attachment: initial\; background-origin: initial\; background-clip: initial\; border: none\; border-collapse: separate\; border-radius: 0px\; height: auto\; width: auto\;" />\n<br style="inset: auto\; box-sizing: content-box\; clear: none\; content: normal\; direction: inherit\; display: inline\; empty-cells: show\; float: none\; font-variant-numeric: inherit\; font-variant-east-asian: inherit\; font-stretch: inherit\; font-size: 15px\; font-family: &quot\;Roboto Slab&quot\;\, Arial\, Helvetica\, sans-serif\; line-height: inherit\; margin: 0px\; max-height: none\; max-width: none\; min-height: initial\; min-width: initial\; opacity: 1\; outline-offset: 0px\; overflow: visible\; padding: 0px\; position: static\; resize: none\; table-layout: auto\; text-overflow: clip\; vertical-align: baseline\; visibility: inherit\; word-break: inherit\; overflow-wrap: inherit\; z-index: auto\; background-image: none\; background-position: initial\; background-size: initial\; background-repeat: initial\; background-attachment: initial\; background-origin: initial\; background-clip: initial\; border: none\; border-collapse: separate\; border-radius: 0px\; height: auto\; width: auto\;" />\n<span style="font-family: &quot\;Roboto Slab&quot\;\, Arial\, Helvetica\, sans-serif\; font-size: 15px\;">We look forward to seeing you there for this spring kickoff party!</span>
LOCATION:23rd St. Brewery 3512 Clinton Pkwy
UID:e.2064.17380
SEQUENCE:3
DTSTAMP:20260421T090824Z
URL:https://members.lawrencechamber.com/events/details/business-after-hours-by-23rd-st-brewery-april-2026-17380
END:VEVENT

END:VCALENDAR
