BEGIN:VCALENDAR
VERSION:2.0
PRODID:-//ChamberMaster//Event Calendar 2.0//EN
METHOD:PUBLISH
X-PUBLISHED-TTL:P3D
REFRESH-INTERVAL:P3D
CALSCALE:GREGORIAN
BEGIN:VEVENT
DTSTART:20260425T210000Z
DTEND:20260426T000000Z
X-MICROSOFT-CDO-ALLDAYEVENT:FALSE
SUMMARY:Burge Bash
DESCRIPTION:The Burge Union originally opened in 1979 as the "Satellite Student Union\," and was created to serve the campus's west side as the University continued to expand. In 2016\, the original structure was demolished and replaced with the modern building we know today.\n\n\n\nThe Burge Union is being transformed into campus's very own casino for a night. Guests will have the chance to enter raffles\, play to win prizes\, and experience the Burge Union in a whole new way.\n\n\n\nLearn more about the events on our website\, https://union.ku.edu/Union100 and follow us on Instagram\, @kuunions for updates!
X-ALT-DESC;FMTTYPE=text/html:<span style="font-size:14px"><span style="font-family:times new roman">The Burge Union originally opened in 1979 as the &ldquo\;Satellite Student Union\,&rdquo\; and was created to serve the campus&rsquo\;s west side as the University continued to expand. In 2016\, the original structure was demolished and replaced with the modern building we know today.<br />\n<br />\nThe Burge Union is being transformed into campus&rsquo\;s very own casino for a night. Guests will have the chance to enter raffles\, play to win prizes\, and experience the Burge Union in a whole new way.</span></span><br />\n<br />\n<span style="font-family:times new roman\,serif"><span style="font-size:14px">Learn more about the events on our website\, </span></span><span style="font-size:14px"><a href="https://union.ku.edu/Union100" style="color:rgb(70\, 120\, 134)\;"><span style="font-family:times new roman\,serif">https://union.ku.edu/Union100</span></a><span style="font-family:times new roman\,serif"> and follow us on Instagram\, @kuunions for updates!</span></span><br />\n<br />\n&nbsp\;
LOCATION:Burge Union
UID:e.2064.17233
SEQUENCE:3
DTSTAMP:20260420T213802Z
URL:https://members.lawrencechamber.com/events/details/burge-bash-17233
END:VEVENT

END:VCALENDAR
