BEGIN:VCALENDAR
VERSION:2.0
PRODID:-//ChamberMaster//Event Calendar 2.0//EN
METHOD:PUBLISH
X-PUBLISHED-TTL:P3D
REFRESH-INTERVAL:P3D
CALSCALE:GREGORIAN
BEGIN:VEVENT
DTSTART;VALUE=DATE:20260504
DTEND;VALUE=DATE:20260505
TRANSP:TRANSPARENT
X-MICROSOFT-CDO-ALLDAYEVENT:TRUE
SUMMARY:2026 Sand Trap Classic Golf Tournament
DESCRIPTION:Take the "work" out of networking and join us for The Chamber's annual Sand Trap Classic Golf Tournament!\nThe tournament format is a four-person scramble with a shotgun start and end in a horse race all hosted at Lawrence Country Club. Players are encouraged to arrive early to register\, mix and mingle\, and enjoy hosted snacks and beverages before your flight begins.\n\n\n\nThe Grandstand (19th Hole) is back for another year! Join the 100 golfers\, hole sponsors\, and fellow Grandstand attendees for hosted lunch\, beverages\, and yard games all while cheering on the golfers throughout the afternoon and event culmination: the horse race!\n\nJust $50 for this delightful experience!\n\nTickets for the Grandstand experience will open on April 13th.\n\n\n\nAs of 10:05am on April 13\, individual teams are sold out! Thank you all for the amazing support.\n\nIf you are interested in adding your name to the waitlist\, please email Jared Martin\, Director of Events\, at JMartin@LawrenceChamber.com.\n\n\n\n*In the event of emergency\, we will not reschedule this event and appreciate your understanding that we do not offer refunds*
X-ALT-DESC;FMTTYPE=text/html:<h3>Take the &quot\;work&quot\; out of networking and join us for The Chamber&#39\;s annual Sand Trap Classic Golf Tournament!</h3>\nThe tournament format is a four-person scramble with a shotgun start and end in a horse race all hosted at Lawrence Country Club. Players are encouraged to arrive early to register\, mix and mingle\, and enjoy hosted snacks and beverages before your flight begins.<br />\n<br />\n<strong>The Grandstand (19th Hole) is back for another year!</strong>&nbsp\;Join the 100 golfers\, hole sponsors\, and fellow Grandstand attendees for hosted lunch\, beverages\, and yard games all while cheering on the golfers throughout the afternoon and event culmination: the horse race!<br />\n<em>Just $50 for this delightful experience!<br />\nTickets for the Grandstand experience will open on April 13th.</em><br />\n<br />\n<span style="color:#FF0000\;">As of 10:05am on April 13\, individual teams are sold out! </span>Thank you all for the amazing support.<br />\nIf you are interested in adding your name to the waitlist\, please email Jared Martin\, Director of Events\, at JMartin@LawrenceChamber.com.<br />\n<br />\n*In the event of emergency\, we will not reschedule this event and appreciate your understanding that we do not offer refunds*&nbsp\;
LOCATION:Lawrence Country Club 400 Country Club Terrace Lawrence\, KS 66049
UID:e.2064.17049
SEQUENCE:3
DTSTAMP:20260420T231859Z
URL:https://members.lawrencechamber.com/events/details/2026-sand-trap-classic-golf-tournament-17049
END:VEVENT

END:VCALENDAR
