BEGIN:VCALENDAR
VERSION:2.0
PRODID:-//ChamberMaster//Event Calendar 2.0//EN
METHOD:PUBLISH
X-PUBLISHED-TTL:P3D
REFRESH-INTERVAL:P3D
CALSCALE:GREGORIAN
BEGIN:VEVENT
DTSTART:20190125T233000Z
DTEND:20190126T033000Z
X-MICROSOFT-CDO-ALLDAYEVENT:FALSE
SUMMARY:2019 Annual Meeting
DESCRIPTION:An Evening to Celebrate!\n\n\n\nThe Chamber's Annual Meeting\, presented by Bartlett & West and SS&C Solutions\, celebrates the accomplishments of 2018 and looks forward to those to come in the new year. \n\n\n\nPlease join us as we honor our outgoing board members and recognize the recipients of the Chamber's prestigious Crown Automotive ATHENA Award and Citizen of the Years Award. Read about the receipients\, John Ross (COY) and Nancy Thellman (ATHENA)\, by clicking here!\n\n\n\nThe evening will feature a short program\, dinner\, live entertainment\, and plenty of social interaction among Chamber members. \n\n\n\nReservations due\, Wednesday\, January 23. We have sold out in the past\, so make your reservations today!\n\n\n\nFree parking available on both levels of the parking garage at 6th & New Hampshire (green spots reserved for Marriott hotel guests only). \n\n\n\n***Ticket price includes dinner\, beer\, wine & non-alcoholic beverages throughout the evening.
X-ALT-DESC;FMTTYPE=text/html:<br />\n<span style="font-size: 16px\;"><strong><span style="color:#800000\;"><span style="font-size: 22px\;">An Evening to Celebrate!</span></span><br />\n<br />\n<span style="font-size: 14px\;"><span style="color: rgb(0\, 0\, 0)\;">The Chamber&#39\;s Annual Meeting\, presented by Bartlett &amp\; West and SS&amp\;C Solutions\, celebrates the accomplishments of 2018 and looks forward to those to come in the new year.&nbsp\;</span></span></strong><br />\n<br />\n<span style="font-size: 14px\;"><span style="color: rgb(0\, 0\, 0)\;">Please join us as we honor our outgoing board members and recognize the recipients of the Chamber&#39\;s prestigious Crown Automotive ATHENA Award and Citizen of the Years Award. <a href="https://lawrencechamber.com/chamber-names-citizen-of-the-years-athena-award-recipients/">Read about the receipients\, John Ross (COY) and Nancy Thellman (ATHENA)\, by clicking here!</a><br />\n<br />\nThe evening will feature a short program\, dinner\, live entertainment\, and plenty of social interaction among&nbsp\;Chamber members.&nbsp\;</span></span></span><br />\n<br />\n<span style="font-size: 14px\;"><span style="color:#800000\;"><span style="font-size: 16px\;"><strong>Reservations due\, Wednesday\, January 23. We have sold out in the past\, so make your reservations today!</strong></span></span><br />\n<br />\n<em>Free parking available on both levels of the parking garage at 6th &amp\; New Hampshire (green spots reserved for Marriott hotel guests only).&nbsp\;</em><br />\n<br />\n<strong><em>***Ticket price includes dinner\, beer\, wine &amp\; non-alcoholic beverages throughout the evening.</em></strong></span><br />\n&nbsp\;
LOCATION:Abe & Jake's Landing 8 E. 6th Street
UID:e.2064.3933
SEQUENCE:3
DTSTAMP:20260421T183953Z
URL:https://members.lawrencechamber.com/events/details/2019-annual-meeting-3933
END:VEVENT

END:VCALENDAR
