BEGIN:VCALENDAR
VERSION:2.0
PRODID:-//ChamberMaster//Event Calendar 2.0//EN
METHOD:PUBLISH
X-PUBLISHED-TTL:P3D
REFRESH-INTERVAL:P3D
CALSCALE:GREGORIAN
BEGIN:VEVENT
DTSTART:20170505T233000Z
DTEND:20170506T020000Z
X-MICROSOFT-CDO-ALLDAYEVENT:FALSE
SUMMARY:2017 Leadership Lawrence Graduation
DESCRIPTION:Join us for the 2017 Leadership Lawrence graduation! \n\n\n\nAbe & Jake's Landing\n\nDoors open at 6:30 p.m.\n\nProgram starts at 7:00 p.m.\n\n\n\nEnjoy drinks and appetizers.\n\n$35/person\n\nRegistration required -- you can register online\, by calling (785) 865-4411 or by emailing frontdesk@lawrencechamber.com.\n\n\n\n\n\nThanks to CEK Insurance for sponsoring the Class of 2017!\n\n\n\nSilver Sponsor: \n\nEnvista Credit Union
X-ALT-DESC;FMTTYPE=text/html:Join us for the 2017&nbsp\;Leadership Lawrence graduation!&nbsp\;<br />\n<br />\nAbe &amp\; Jake&#39\;s Landing<br />\nDoors open at 6:30 p.m.<br />\nProgram starts at 7:00 p.m.<br />\n<br />\nEnjoy drinks and appetizers.<br />\n$35/person<br />\nRegistration required -- you can register online\, by calling (785) 865-4411 or by emailing frontdesk@lawrencechamber.com.<br />\n<br />\n<br />\nThanks to CEK Insurance for sponsoring the Class of 2017!<br />\n<br />\nSilver Sponsor:&nbsp\;<br />\nEnvista Credit Union
LOCATION:Abe & Jake's Landing 8 E. 6th Street
UID:e.2064.2327
SEQUENCE:3
DTSTAMP:20260426T024859Z
URL:https://members.lawrencechamber.com/events/details/2017-leadership-lawrence-graduation-2327
END:VEVENT

END:VCALENDAR
