BEGIN:VCALENDAR
VERSION:2.0
PRODID:-//ChamberMaster//Event Calendar 2.0//EN
METHOD:PUBLISH
X-PUBLISHED-TTL:P3D
REFRESH-INTERVAL:P3D
CALSCALE:GREGORIAN
BEGIN:VEVENT
DTSTART:20170330T123000Z
DTEND:20170330T220000Z
X-MICROSOFT-CDO-ALLDAYEVENT:FALSE
SUMMARY:2017 Leadership Lawrence Economic Development Day
DESCRIPTION:
X-ALT-DESC;FMTTYPE=text/html:
LOCATION:
UID:e.2064.2324
SEQUENCE:3
DTSTAMP:20260420T050658Z
URL:https://members.lawrencechamber.com/events/details/2017-leadership-lawrence-economic-development-day-2324
END:VEVENT

END:VCALENDAR
