BEGIN:VCALENDAR
VERSION:2.0
PRODID:-//ChamberMaster//Event Calendar 2.0//EN
METHOD:PUBLISH
X-PUBLISHED-TTL:P3D
REFRESH-INTERVAL:P3D
CALSCALE:GREGORIAN
BEGIN:VEVENT
DTSTART:20160922T170000Z
DTEND:20160922T183000Z
X-MICROSOFT-CDO-ALLDAYEVENT:FALSE
SUMMARY:2017 Leadership Lawrence Alumni Luncheon
DESCRIPTION:Celebrate Leadership Lawrence with other program alumni and meet the Class of 2017!  \n\n\n\nThe keynote speaker will be KU Provost Neeli Bendapudi. The Distinguished Alumni Award will also be presented.\n\n\n\nThank you to our generous sponsors: CEK Insurance\, Stephens Real Estate\, The Trust Company\, and 23rd St. Brewery. Without you and businesses like you\, we would not be able to continue to provide this worthwhile program.
X-ALT-DESC;FMTTYPE=text/html:Celebrate Leadership Lawrence with other program alumni and meet the Class of 2017!&nbsp\;&nbsp\;<br />\n<br />\nThe keynote speaker will be&nbsp\;KU Provost Neeli Bendapudi. The Distinguished Alumni Award will also be presented.<br />\n<br />\nThank you to our generous sponsors: CEK Insurance\, Stephens Real Estate\, The Trust Company\, and&nbsp\;23rd St. Brewery.&nbsp\;Without you and businesses like you\, we would not be able to continue to provide this worthwhile program.<br />\n&nbsp\;
LOCATION:Lawrence Free Methodist Church 3001 Lawrence Ave Just past the Kasold Curve.
UID:e.2064.2253
SEQUENCE:3
DTSTAMP:20260421T071141Z
URL:https://members.lawrencechamber.com/events/details/2017-leadership-lawrence-alumni-luncheon-2253
END:VEVENT

END:VCALENDAR
