BEGIN:VCALENDAR
VERSION:2.0
PRODID:-//ChamberMaster//Event Calendar 2.0//EN
METHOD:PUBLISH
X-PUBLISHED-TTL:P3D
REFRESH-INTERVAL:P3D
CALSCALE:GREGORIAN
BEGIN:VEVENT
DTSTART:20160225T133000Z
DTEND:20160225T230000Z
X-MICROSOFT-CDO-ALLDAYEVENT:FALSE
SUMMARY:2016 LL State Government Day
DESCRIPTION:
X-ALT-DESC;FMTTYPE=text/html:
LOCATION:
UID:e.2064.2077
SEQUENCE:3
DTSTAMP:20260422T080609Z
URL:https://members.lawrencechamber.com/events/details/2016-ll-state-government-day-2077
END:VEVENT

END:VCALENDAR
