BEGIN:VCALENDAR
VERSION:2.0
PRODID:-//ChamberMaster//Event Calendar 2.0//EN
METHOD:PUBLISH
X-PUBLISHED-TTL:P3D
REFRESH-INTERVAL:P3D
CALSCALE:GREGORIAN
BEGIN:VEVENT
DTSTART:20160407T123000Z
DTEND:20160407T220000Z
X-MICROSOFT-CDO-ALLDAYEVENT:FALSE
SUMMARY:2016 LL Civic Responsibility Day
DESCRIPTION:
X-ALT-DESC;FMTTYPE=text/html:
LOCATION:
UID:e.2064.2080
SEQUENCE:3
DTSTAMP:20260422T022435Z
URL:https://members.lawrencechamber.com/events/details/2016-ll-civic-responsibility-day-2080
END:VEVENT

END:VCALENDAR
